BEGIN:VCALENDAR
VERSION:2.0
PRODID:-//Chris Ostler - ECPv6.15.20//NONSGML v1.0//EN
CALSCALE:GREGORIAN
METHOD:PUBLISH
X-ORIGINAL-URL:https://www.chrisostler.co.uk
X-WR-CALDESC:Events for Chris Ostler
REFRESH-INTERVAL;VALUE=DURATION:PT1H
X-Robots-Tag:noindex
X-PUBLISHED-TTL:PT1H
BEGIN:VTIMEZONE
TZID:Europe/London
BEGIN:DAYLIGHT
TZOFFSETFROM:+0000
TZOFFSETTO:+0100
TZNAME:BST
DTSTART:20250330T010000
END:DAYLIGHT
BEGIN:STANDARD
TZOFFSETFROM:+0100
TZOFFSETTO:+0000
TZNAME:GMT
DTSTART:20251026T010000
END:STANDARD
BEGIN:DAYLIGHT
TZOFFSETFROM:+0000
TZOFFSETTO:+0100
TZNAME:BST
DTSTART:20260329T010000
END:DAYLIGHT
BEGIN:STANDARD
TZOFFSETFROM:+0100
TZOFFSETTO:+0000
TZNAME:GMT
DTSTART:20261025T010000
END:STANDARD
BEGIN:DAYLIGHT
TZOFFSETFROM:+0000
TZOFFSETTO:+0100
TZNAME:BST
DTSTART:20270328T010000
END:DAYLIGHT
BEGIN:STANDARD
TZOFFSETFROM:+0100
TZOFFSETTO:+0000
TZNAME:GMT
DTSTART:20271031T010000
END:STANDARD
END:VTIMEZONE
BEGIN:VEVENT
DTSTART;TZID=Europe/London:20260605T193000
DTEND;TZID=Europe/London:20260605T193000
DTSTAMP:20260419T155027
CREATED:20251022T133544Z
LAST-MODIFIED:20260324T132051Z
UID:2986-1780687800-1780687800@www.chrisostler.co.uk
SUMMARY:The Cranberry Farm\, Cranbrook
DESCRIPTION:Chris Ostler\, Solo
URL:https://www.chrisostler.co.uk/event/the-cranberry-farm-cranbrook-2-2/
LOCATION:The Cranberry Farm\, Cranbrook\, Badger Way\, Cranbrook\, EX5 7FN
END:VEVENT
BEGIN:VEVENT
DTSTART;TZID=Europe/London:20260606T190000
DTEND;TZID=Europe/London:20260606T190000
DTSTAMP:20260419T155027
CREATED:20250227T083301Z
LAST-MODIFIED:20260324T133204Z
UID:2998-1780772400-1780772400@www.chrisostler.co.uk
SUMMARY:Topsham Football Club\, Topsham
DESCRIPTION:Chris Ostler\, Solo
URL:https://www.chrisostler.co.uk/event/topsham-football-club-topsham-2/
LOCATION:Topsham Football Club\, Coronation Field\, Topsham\, Devon\, EX3 0LT
END:VEVENT
BEGIN:VEVENT
DTSTART;TZID=Europe/London:20260612T193000
DTEND;TZID=Europe/London:20260612T193000
DTSTAMP:20260419T155027
CREATED:20260304T131938Z
LAST-MODIFIED:20260325T120522Z
UID:3019-1781292600-1781292600@www.chrisostler.co.uk
SUMMARY:Oriels\, Exeter
DESCRIPTION:Chris Ostler\, Solo
URL:https://www.chrisostler.co.uk/event/oriels-exeter-5-2-2-2-2-2-2-3/
LOCATION:Oriels Exeter\, 223-226 High Street\, Exeter\, Devon\, EX4 3RH
END:VEVENT
BEGIN:VEVENT
DTSTART;TZID=Europe/London:20260613T120000
DTEND;TZID=Europe/London:20260613T120000
DTSTAMP:20260419T155027
CREATED:20250227T160358Z
LAST-MODIFIED:20260324T134400Z
UID:3000-1781352000-1781352000@www.chrisostler.co.uk
SUMMARY:Cranbrook Festival\, Cranbrook
DESCRIPTION:Chris Ostler\, Solo
URL:https://www.chrisostler.co.uk/event/cranbrook-festival-cranbrook-2/
LOCATION:Cranbrook Festival\, The Cranberry Farm\, Badger Way\, Cranbrook\, Devon\, EX5 7FN
END:VEVENT
BEGIN:VEVENT
DTSTART;TZID=Europe/London:20260613T173000
DTEND;TZID=Europe/London:20260613T173000
DTSTAMP:20260419T155027
CREATED:20250730T174237Z
LAST-MODIFIED:20260324T142531Z
UID:3002-1781371800-1781371800@www.chrisostler.co.uk
SUMMARY:The Lamb and Flag\, Taunton
DESCRIPTION:Chris Ostler\, Solo
URL:https://www.chrisostler.co.uk/event/the-lamb-and-flag-taunton-2/
LOCATION:The Lamb and Flag\, Blagdon Hill\, Taunton\, Somerset\, TA3 7SL
END:VEVENT
BEGIN:VEVENT
DTSTART;TZID=Europe/London:20260613T210000
DTEND;TZID=Europe/London:20260613T210000
DTSTAMP:20260419T155027
CREATED:20251230T134748Z
LAST-MODIFIED:20260324T142745Z
UID:3004-1781384400-1781384400@www.chrisostler.co.uk
SUMMARY:Royal Clarence\, Seaton
DESCRIPTION:Chris Ostler\, Solo
URL:https://www.chrisostler.co.uk/event/royal-clarence-seaton-2-2/
LOCATION:Royal Clarence\, Seaton\, 1 Harbour Road\, Seaton\, EX12 2LX
END:VEVENT
BEGIN:VEVENT
DTSTART;TZID=Europe/London:20260617T210000
DTEND;TZID=Europe/London:20260617T210000
DTSTAMP:20260419T155027
CREATED:20260324T144635Z
LAST-MODIFIED:20260324T144635Z
UID:3006-1781730000-1781730000@www.chrisostler.co.uk
SUMMARY:Cofton Holidays\, Starcross
DESCRIPTION:Chris Ostler\, Solo
URL:https://www.chrisostler.co.uk/event/cofton-holidays-starcross/
LOCATION:Cofton Holiday\, Starcross\, Starcross\, EX6 8RP
END:VEVENT
BEGIN:VEVENT
DTSTART;TZID=Europe/London:20260619T193000
DTEND;TZID=Europe/London:20260619T193000
DTSTAMP:20260419T155027
CREATED:20260304T131938Z
LAST-MODIFIED:20260325T120548Z
UID:3021-1781897400-1781897400@www.chrisostler.co.uk
SUMMARY:Oriels\, Exeter
DESCRIPTION:Chris Ostler\, Solo
URL:https://www.chrisostler.co.uk/event/oriels-exeter-5-2-2-2-2-2-2-3-2/
LOCATION:Oriels Exeter\, 223-226 High Street\, Exeter\, Devon\, EX4 3RH
END:VEVENT
BEGIN:VEVENT
DTSTART;TZID=Europe/London:20260621T123000
DTEND;TZID=Europe/London:20260621T123000
DTSTAMP:20260419T155027
CREATED:20260122T140525Z
LAST-MODIFIED:20260324T131143Z
UID:2970-1782045000-1782045000@www.chrisostler.co.uk
SUMMARY:Hoburne Devon Bay Holiday Park\, Paignton
DESCRIPTION:Chris Ostler\, Solo
URL:https://www.chrisostler.co.uk/event/hoburne-devon-bay-holiday-park-paignton-3/
LOCATION:Hoburne Devon Bay Holiday Park\, Paignton\, Grange Court\, Grange Road\, Goodrington\, Paington\, Devon\, TQ4 7JP
END:VEVENT
BEGIN:VEVENT
DTSTART;TZID=Europe/London:20260622T200000
DTEND;TZID=Europe/London:20260622T200000
DTSTAMP:20260419T155027
CREATED:20251230T140044Z
LAST-MODIFIED:20260324T145203Z
UID:3011-1782158400-1782158400@www.chrisostler.co.uk
SUMMARY:Unity Beach\, Brean
DESCRIPTION:Chris Ostler\, Solo
URL:https://www.chrisostler.co.uk/event/unity-beach-brean-2-2/
LOCATION:Unity Beach\, Brean\, Coast Road\, Brean Sands\, Somerset\, TA8 2RB
END:VEVENT
BEGIN:VEVENT
DTSTART;TZID=Europe/London:20260626T193000
DTEND;TZID=Europe/London:20260626T193000
DTSTAMP:20260419T155027
CREATED:20260304T131938Z
LAST-MODIFIED:20260325T120620Z
UID:3023-1782502200-1782502200@www.chrisostler.co.uk
SUMMARY:Oriels\, Exeter
DESCRIPTION:Chris Ostler\, Solo
URL:https://www.chrisostler.co.uk/event/oriels-exeter-5-2-2-2-2-2-2-3-2-2/
LOCATION:Oriels Exeter\, 223-226 High Street\, Exeter\, Devon\, EX4 3RH
END:VEVENT
END:VCALENDAR