BEGIN:VCALENDAR
VERSION:2.0
PRODID:-//Chris Ostler - ECPv6.15.20//NONSGML v1.0//EN
CALSCALE:GREGORIAN
METHOD:PUBLISH
X-ORIGINAL-URL:https://www.chrisostler.co.uk
X-WR-CALDESC:Events for Chris Ostler
REFRESH-INTERVAL;VALUE=DURATION:PT1H
X-Robots-Tag:noindex
X-PUBLISHED-TTL:PT1H
BEGIN:VTIMEZONE
TZID:Europe/London
BEGIN:DAYLIGHT
TZOFFSETFROM:+0000
TZOFFSETTO:+0100
TZNAME:BST
DTSTART:20240331T010000
END:DAYLIGHT
BEGIN:STANDARD
TZOFFSETFROM:+0100
TZOFFSETTO:+0000
TZNAME:GMT
DTSTART:20241027T010000
END:STANDARD
BEGIN:DAYLIGHT
TZOFFSETFROM:+0000
TZOFFSETTO:+0100
TZNAME:BST
DTSTART:20250330T010000
END:DAYLIGHT
BEGIN:STANDARD
TZOFFSETFROM:+0100
TZOFFSETTO:+0000
TZNAME:GMT
DTSTART:20251026T010000
END:STANDARD
BEGIN:DAYLIGHT
TZOFFSETFROM:+0000
TZOFFSETTO:+0100
TZNAME:BST
DTSTART:20260329T010000
END:DAYLIGHT
BEGIN:STANDARD
TZOFFSETFROM:+0100
TZOFFSETTO:+0000
TZNAME:GMT
DTSTART:20261025T010000
END:STANDARD
END:VTIMEZONE
BEGIN:VEVENT
DTSTART;TZID=Europe/London:20251101T210000
DTEND;TZID=Europe/London:20251101T210000
DTSTAMP:20260419T212414
CREATED:20251008T132437Z
LAST-MODIFIED:20251008T132437Z
UID:2656-1762030800-1762030800@www.chrisostler.co.uk
SUMMARY:The Godolphin Club\, Helston
DESCRIPTION:Chris Ostler\, Solo
URL:https://www.chrisostler.co.uk/event/the-godolphin-club-helston/
LOCATION:The Godolphin Club\, Helston\, Wendron Street\, Helston\, Cornwall\, TR13 8PS
END:VEVENT
BEGIN:VEVENT
DTSTART;TZID=Europe/London:20251102T191500
DTEND;TZID=Europe/London:20251102T191500
DTSTAMP:20260419T212414
CREATED:20251008T133231Z
LAST-MODIFIED:20251022T130817Z
UID:2658-1762110900-1762110900@www.chrisostler.co.uk
SUMMARY:Bridwell Park\, Uffculme - WITH BAND - ticketed\, after fireworks
DESCRIPTION:Chris Ostler Band
URL:https://www.chrisostler.co.uk/event/bridwell-park-uffculme-with-band-ticketed-after-fireworks/
LOCATION:Bridwell Park\, Bridwell Avenue\, Uffculme\, EX15 3BU
END:VEVENT
BEGIN:VEVENT
DTSTART;TZID=Europe/London:20251107T193000
DTEND;TZID=Europe/London:20251107T193000
DTSTAMP:20260419T212414
CREATED:20251008T133633Z
LAST-MODIFIED:20251107T095512Z
UID:2661-1762543800-1762543800@www.chrisostler.co.uk
SUMMARY:The Bar\, Teignmouth - sorry CANCELLED
DESCRIPTION:Chris Ostler\, Solo
URL:https://www.chrisostler.co.uk/event/the-bar-teignmouth-2/
LOCATION:The Bar\, Teignmouth\, 3 Teign Street\, Teignmouth\, TQ14 8EA
END:VEVENT
BEGIN:VEVENT
DTSTART;TZID=Europe/London:20251108T210000
DTEND;TZID=Europe/London:20251108T210000
DTSTAMP:20260419T212414
CREATED:20251022T131151Z
LAST-MODIFIED:20251022T131151Z
UID:2681-1762635600-1762635600@www.chrisostler.co.uk
SUMMARY:The Beaver Inn\, Appledore
DESCRIPTION:Chris Ostler\, Solo
URL:https://www.chrisostler.co.uk/event/the-beaver-inn-appledore/
LOCATION:The Beaver Inn\, Appledore\, 85 Irsha Street\, Appledore\, EX39 1RY
END:VEVENT
BEGIN:VEVENT
DTSTART;TZID=Europe/London:20251114T213000
DTEND;TZID=Europe/London:20251114T213000
DTSTAMP:20260419T212414
CREATED:20251008T134011Z
LAST-MODIFIED:20251008T134011Z
UID:2663-1763155800-1763155800@www.chrisostler.co.uk
SUMMARY:The Copper House Inn\, Hayle
DESCRIPTION:Chris Ostler\, Solo
URL:https://www.chrisostler.co.uk/event/the-copper-house-inn-hayle-2/
LOCATION:The Copper House Inn\, Hayle\, 11 Fore Street\, Hayle\, TR27 4DY
END:VEVENT
BEGIN:VEVENT
DTSTART;TZID=Europe/London:20251116T160000
DTEND;TZID=Europe/London:20251116T160000
DTSTAMP:20260419T212414
CREATED:20251008T134644Z
LAST-MODIFIED:20251008T134644Z
UID:2665-1763308800-1763308800@www.chrisostler.co.uk
SUMMARY:The Ferry Boat Inn\, Shaldon
DESCRIPTION:Chris Ostler\, Solo
URL:https://www.chrisostler.co.uk/event/the-ferry-boat-inn-shaldon/
LOCATION:The Ferry Boat Inn\, Shaldon\, 4 Strand\, Shaldon\, TQ14 0DL
END:VEVENT
BEGIN:VEVENT
DTSTART;TZID=Europe/London:20251121T200000
DTEND;TZID=Europe/London:20251121T200000
DTSTAMP:20260419T212414
CREATED:20251105T132125Z
LAST-MODIFIED:20251105T132125Z
UID:2701-1763755200-1763755200@www.chrisostler.co.uk
SUMMARY:Haven Burnham-on-Sea Holiday Park
DESCRIPTION:Chris Ostler\, Solo\, Owners Lounge
URL:https://www.chrisostler.co.uk/event/haven-burnham-on-sea-holiday-park/
LOCATION:Burnham-on-Sea Holiday Village\, Marine Drive\, Burnham-on-Sea\, Somerset\, TA8 1LA
END:VEVENT
BEGIN:VEVENT
DTSTART;TZID=Europe/London:20251122T160000
DTEND;TZID=Europe/London:20251122T160000
DTSTAMP:20260419T212414
CREATED:20251119T132803Z
LAST-MODIFIED:20251119T132803Z
UID:2750-1763827200-1763827200@www.chrisostler.co.uk
SUMMARY:Tiverton Light Switch On\, Tiverton
DESCRIPTION:Chris Ostler\, Solo
URL:https://www.chrisostler.co.uk/event/tiverton-light-switch-on-tiverton/
LOCATION:Tiverton Christmas Lights\, Fore Street/Pheonix Lane\, Tiverton\, EX16 6LZ
END:VEVENT
BEGIN:VEVENT
DTSTART;TZID=Europe/London:20251122T203000
DTEND;TZID=Europe/London:20251122T203000
DTSTAMP:20260419T212414
CREATED:20251008T135119Z
LAST-MODIFIED:20251008T135119Z
UID:2668-1763843400-1763843400@www.chrisostler.co.uk
SUMMARY:The Cowick Barton\, Exeter
DESCRIPTION:Chris Ostler\, Solo
URL:https://www.chrisostler.co.uk/event/the-cowick-barton-exeter-2/
LOCATION:The Cowick Barton\, Exeter\, 121 Cowick Lane\, Exeter\, EX2 9HF
END:VEVENT
BEGIN:VEVENT
DTSTART;TZID=Europe/London:20251128T200000
DTEND;TZID=Europe/London:20251128T200000
DTSTAMP:20260419T212414
CREATED:20251008T135311Z
LAST-MODIFIED:20251008T135311Z
UID:2670-1764360000-1764360000@www.chrisostler.co.uk
SUMMARY:The Ship Inn\, Mousehole
DESCRIPTION:Chris Ostler\, Solo
URL:https://www.chrisostler.co.uk/event/the-ship-inn-mousehole-4/
LOCATION:The Ship Inn\, Mousehole\, South Cliff\, Mousehole\, Cornwall\, TR19 6QX
END:VEVENT
BEGIN:VEVENT
DTSTART;TZID=Europe/London:20251129T210000
DTEND;TZID=Europe/London:20251129T210000
DTSTAMP:20260419T212414
CREATED:20251008T135709Z
LAST-MODIFIED:20251008T135756Z
UID:2672-1764450000-1764450000@www.chrisostler.co.uk
SUMMARY:Royal Clarence\, Seaton
DESCRIPTION:Chris Ostler\, Solo
URL:https://www.chrisostler.co.uk/event/the-royal-clarence-seaton/
LOCATION:Royal Clarence\, Seaton\, 1 Harbour Road\, Seaton\, EX12 2LX
END:VEVENT
BEGIN:VEVENT
DTSTART;TZID=Europe/London:20251130T160000
DTEND;TZID=Europe/London:20251130T160000
DTSTAMP:20260419T212414
CREATED:20251008T140052Z
LAST-MODIFIED:20251008T140052Z
UID:2677-1764518400-1764518400@www.chrisostler.co.uk
SUMMARY:The Ebberley Arms\, Barnstaple
DESCRIPTION:Chris Ostler\, Solo
URL:https://www.chrisostler.co.uk/event/the-ebberley-arms-barnstaple-3/
LOCATION:The Ebberley Arms\, Barnstaple\, 40 Bear Street\, Barnstaple\, Devon\, EX32 7BZ
END:VEVENT
END:VCALENDAR