BEGIN:VCALENDAR
VERSION:2.0
PRODID:-//Chris Ostler - ECPv6.15.20//NONSGML v1.0//EN
CALSCALE:GREGORIAN
METHOD:PUBLISH
X-ORIGINAL-URL:https://www.chrisostler.co.uk
X-WR-CALDESC:Events for Chris Ostler
REFRESH-INTERVAL;VALUE=DURATION:PT1H
X-Robots-Tag:noindex
X-PUBLISHED-TTL:PT1H
BEGIN:VTIMEZONE
TZID:Europe/London
BEGIN:DAYLIGHT
TZOFFSETFROM:+0000
TZOFFSETTO:+0100
TZNAME:BST
DTSTART:20240331T010000
END:DAYLIGHT
BEGIN:STANDARD
TZOFFSETFROM:+0100
TZOFFSETTO:+0000
TZNAME:GMT
DTSTART:20241027T010000
END:STANDARD
BEGIN:DAYLIGHT
TZOFFSETFROM:+0000
TZOFFSETTO:+0100
TZNAME:BST
DTSTART:20250330T010000
END:DAYLIGHT
BEGIN:STANDARD
TZOFFSETFROM:+0100
TZOFFSETTO:+0000
TZNAME:GMT
DTSTART:20251026T010000
END:STANDARD
BEGIN:DAYLIGHT
TZOFFSETFROM:+0000
TZOFFSETTO:+0100
TZNAME:BST
DTSTART:20260329T010000
END:DAYLIGHT
BEGIN:STANDARD
TZOFFSETFROM:+0100
TZOFFSETTO:+0000
TZNAME:GMT
DTSTART:20261025T010000
END:STANDARD
END:VTIMEZONE
BEGIN:VEVENT
DTSTART;TZID=Europe/London:20251010T200000
DTEND;TZID=Europe/London:20251010T200000
DTSTAMP:20260419T235302
CREATED:20251008T130000Z
LAST-MODIFIED:20251008T130000Z
UID:2649-1760126400-1760126400@www.chrisostler.co.uk
SUMMARY:The Ship Inn\, Mousehole
DESCRIPTION:Chris Ostler\, Solo
URL:https://www.chrisostler.co.uk/event/the-ship-inn-mousehole-3/
LOCATION:The Ship Inn\, Mousehole\, South Cliff\, Mousehole\, Cornwall\, TR19 6QX
END:VEVENT
BEGIN:VEVENT
DTSTART;TZID=Europe/London:20251017T200000
DTEND;TZID=Europe/London:20251017T200000
DTSTAMP:20260419T235302
CREATED:20250709T121424Z
LAST-MODIFIED:20250709T121424Z
UID:2563-1760731200-1760731200@www.chrisostler.co.uk
SUMMARY:Golden Lion\, Port Isaac
DESCRIPTION:Chris Ostler\, Solo
URL:https://www.chrisostler.co.uk/event/golden-lion-port-isaac-2/
LOCATION:Golden Lion\, Port Isaac\, Fore Street\, Port Isaac\, Devon
END:VEVENT
BEGIN:VEVENT
DTSTART;TZID=Europe/London:20251018T210000
DTEND;TZID=Europe/London:20251018T210000
DTSTAMP:20260419T235302
CREATED:20250709T121616Z
LAST-MODIFIED:20250709T121616Z
UID:2565-1760821200-1760821200@www.chrisostler.co.uk
SUMMARY:The White Lion\, Braunton
DESCRIPTION:Chris Ostler\, Solo
URL:https://www.chrisostler.co.uk/event/the-white-lion-braunton-4/
LOCATION:The White Lion\, Braunton\, North Street\, Braunton\, Devon
END:VEVENT
BEGIN:VEVENT
DTSTART;TZID=Europe/London:20251025T210000
DTEND;TZID=Europe/London:20251025T210000
DTSTAMP:20260419T235302
CREATED:20250709T121850Z
LAST-MODIFIED:20251008T130501Z
UID:2567-1761426000-1761426000@www.chrisostler.co.uk
SUMMARY:The Black Horse\, Sidmouth - WITH BAND
DESCRIPTION:Chris Ostler\, with BAND
URL:https://www.chrisostler.co.uk/event/the-black-horse-sidmouth-2/
LOCATION:The Black Horse\, Sidmouth\, 30 Fore Street\, Sidmouth\, Devon\, EX10 8AQ
END:VEVENT
BEGIN:VEVENT
DTSTART;TZID=Europe/London:20251031T190000
DTEND;TZID=Europe/London:20251031T190000
DTSTAMP:20260419T235302
CREATED:20251008T131550Z
LAST-MODIFIED:20251008T131954Z
UID:2652-1761937200-1761937200@www.chrisostler.co.uk
SUMMARY:The Barn\, Woolacombe - DUO
DESCRIPTION:Chris Ostler\, Duo
URL:https://www.chrisostler.co.uk/event/the-barn-woolacombe-duo/
LOCATION:The Barn\, Woolacombe\, Barton Road\, Woolacombe\, North Devon\, EX34 7DF
END:VEVENT
END:VCALENDAR