BEGIN:VCALENDAR
VERSION:2.0
PRODID:-//Chris Ostler - ECPv6.15.20//NONSGML v1.0//EN
CALSCALE:GREGORIAN
METHOD:PUBLISH
X-WR-CALNAME:Chris Ostler
X-ORIGINAL-URL:https://www.chrisostler.co.uk
X-WR-CALDESC:Events for Chris Ostler
REFRESH-INTERVAL;VALUE=DURATION:PT1H
X-Robots-Tag:noindex
X-PUBLISHED-TTL:PT1H
BEGIN:VTIMEZONE
TZID:Europe/London
BEGIN:DAYLIGHT
TZOFFSETFROM:+0000
TZOFFSETTO:+0100
TZNAME:BST
DTSTART:20240331T010000
END:DAYLIGHT
BEGIN:STANDARD
TZOFFSETFROM:+0100
TZOFFSETTO:+0000
TZNAME:GMT
DTSTART:20241027T010000
END:STANDARD
BEGIN:DAYLIGHT
TZOFFSETFROM:+0000
TZOFFSETTO:+0100
TZNAME:BST
DTSTART:20250330T010000
END:DAYLIGHT
BEGIN:STANDARD
TZOFFSETFROM:+0100
TZOFFSETTO:+0000
TZNAME:GMT
DTSTART:20251026T010000
END:STANDARD
BEGIN:DAYLIGHT
TZOFFSETFROM:+0000
TZOFFSETTO:+0100
TZNAME:BST
DTSTART:20260329T010000
END:DAYLIGHT
BEGIN:STANDARD
TZOFFSETFROM:+0100
TZOFFSETTO:+0000
TZNAME:GMT
DTSTART:20261025T010000
END:STANDARD
END:VTIMEZONE
BEGIN:VEVENT
DTSTART;TZID=Europe/London:20250912T190000
DTEND;TZID=Europe/London:20250912T190000
DTSTAMP:20260420T013758
CREATED:20250911T184148Z
LAST-MODIFIED:20250911T184148Z
UID:2639-1757703600-1757703600@www.chrisostler.co.uk
SUMMARY:Corktown Pub\, Toronto\, Canada
DESCRIPTION:Chris Ostler\, Solo
URL:https://www.chrisostler.co.uk/event/corktown-pub-toronto-canada/
LOCATION:The Corktown\, 175 Young Street\, Hamilton\, ON\, L8N 1V7\, Canada
END:VEVENT
BEGIN:VEVENT
DTSTART;TZID=Europe/London:20250918T200000
DTEND;TZID=Europe/London:20250918T200000
DTSTAMP:20260420T013758
CREATED:20250911T184906Z
LAST-MODIFIED:20250911T184922Z
UID:2644-1758225600-1758225600@www.chrisostler.co.uk
SUMMARY:The Dive Shop\, Toronto\, Canada
DESCRIPTION:Chris Ostler\, Solo
URL:https://www.chrisostler.co.uk/event/the-dive-shop-toronto-canada/
LOCATION:The Dive Shop\, Toronto\, Canada\, 1036 Gerrad St E\, Toronto\, ON\, M4M 1Z5\, Canada
END:VEVENT
END:VCALENDAR