BEGIN:VCALENDAR
VERSION:2.0
PRODID:-//Chris Ostler - ECPv6.15.20//NONSGML v1.0//EN
CALSCALE:GREGORIAN
METHOD:PUBLISH
X-WR-CALNAME:Chris Ostler
X-ORIGINAL-URL:https://www.chrisostler.co.uk
X-WR-CALDESC:Events for Chris Ostler
REFRESH-INTERVAL;VALUE=DURATION:PT1H
X-Robots-Tag:noindex
X-PUBLISHED-TTL:PT1H
BEGIN:VTIMEZONE
TZID:Europe/London
BEGIN:DAYLIGHT
TZOFFSETFROM:+0000
TZOFFSETTO:+0100
TZNAME:BST
DTSTART:20240331T010000
END:DAYLIGHT
BEGIN:STANDARD
TZOFFSETFROM:+0100
TZOFFSETTO:+0000
TZNAME:GMT
DTSTART:20241027T010000
END:STANDARD
BEGIN:DAYLIGHT
TZOFFSETFROM:+0000
TZOFFSETTO:+0100
TZNAME:BST
DTSTART:20250330T010000
END:DAYLIGHT
BEGIN:STANDARD
TZOFFSETFROM:+0100
TZOFFSETTO:+0000
TZNAME:GMT
DTSTART:20251026T010000
END:STANDARD
BEGIN:DAYLIGHT
TZOFFSETFROM:+0000
TZOFFSETTO:+0100
TZNAME:BST
DTSTART:20260329T010000
END:DAYLIGHT
BEGIN:STANDARD
TZOFFSETFROM:+0100
TZOFFSETTO:+0000
TZNAME:GMT
DTSTART:20261025T010000
END:STANDARD
END:VTIMEZONE
BEGIN:VEVENT
DTSTART;TZID=Europe/London:20250807T210000
DTEND;TZID=Europe/London:20250807T210000
DTSTAMP:20260420T045938
CREATED:20250227T161556Z
LAST-MODIFIED:20250326T143935Z
UID:2166-1754600400-1754600400@www.chrisostler.co.uk
SUMMARY:Dukes Seaside Inn\, Sidmouth
DESCRIPTION:Chris Ostler\, BAND
URL:https://www.chrisostler.co.uk/event/dukes-seaside-inn-sidmouth/
LOCATION:Dukes\, Sidmouth\, The Espanade\, Sidmouth\, Devon\, EX10 8AR
END:VEVENT
BEGIN:VEVENT
DTSTART;TZID=Europe/London:20250803T150000
DTEND;TZID=Europe/London:20250803T150000
DTSTAMP:20260420T045938
CREATED:20250509T132802Z
LAST-MODIFIED:20250509T132802Z
UID:2528-1754233200-1754233200@www.chrisostler.co.uk
SUMMARY:The Portreath Arms\, Portreath
DESCRIPTION:Chris Ostler\, Solo
URL:https://www.chrisostler.co.uk/event/the-portreath-arms-portreath/
LOCATION:The Portreath Arms\, Portreath\, The Square\, Portreath\, TR16 4LA
END:VEVENT
BEGIN:VEVENT
DTSTART;TZID=Europe/London:20250802T210000
DTEND;TZID=Europe/London:20250802T210000
DTSTAMP:20260420T045938
CREATED:20250227T161402Z
LAST-MODIFIED:20250326T144054Z
UID:2164-1754168400-1754168400@www.chrisostler.co.uk
SUMMARY:The White Lion\, Braunton
DESCRIPTION:Chris Ostler\, Solo
URL:https://www.chrisostler.co.uk/event/the-white-lion-braunton-2/
LOCATION:The White Lion\, Braunton\, North Street\, Braunton\, Devon
END:VEVENT
BEGIN:VEVENT
DTSTART;TZID=Europe/London:20250802T140000
DTEND;TZID=Europe/London:20250802T140000
DTSTAMP:20260420T045938
CREATED:20250402T140609Z
LAST-MODIFIED:20250604T123219Z
UID:2452-1754143200-1754143200@www.chrisostler.co.uk
SUMMARY:Torbay Inn\, Paignton
DESCRIPTION:Chris Ostler\, Solo Country Music Special!
URL:https://www.chrisostler.co.uk/event/torbay-inn-paignton/
LOCATION:The Torbay Inn\, Paignton\, 34 Fisher Street\, Paignton\, TQ4 5ER
END:VEVENT
BEGIN:VEVENT
DTSTART;TZID=Europe/London:20250801T153000
DTEND;TZID=Europe/London:20250801T153000
DTSTAMP:20260420T045938
CREATED:20250227T161258Z
LAST-MODIFIED:20250326T144116Z
UID:2161-1754062200-1754062200@www.chrisostler.co.uk
SUMMARY:The Black Horse\, Sidmouth
DESCRIPTION:Chris Ostler\, Solo
URL:https://www.chrisostler.co.uk/event/the-black-horse-sidmouth/
LOCATION:The Black Horse\, Sidmouth\, 30 Fore Street\, Sidmouth\, Devon\, EX10 8AQ
END:VEVENT
BEGIN:VEVENT
DTSTART;TZID=Europe/London:20250731T133000
DTEND;TZID=Europe/London:20250731T133000
DTSTAMP:20260420T045938
CREATED:20250709T120418Z
LAST-MODIFIED:20250709T120418Z
UID:2561-1753968600-1753968600@www.chrisostler.co.uk
SUMMARY:Land’s End Landmark\, Penzance
DESCRIPTION:Chris Ostler\, Solo
URL:https://www.chrisostler.co.uk/event/lands-end-landmark-penzance-2/
LOCATION:Land’s End Landmark\, Penzance\, Land's End Landmark\, Penzance\, TR19 7AA
END:VEVENT
BEGIN:VEVENT
DTSTART;TZID=Europe/London:20250727T160000
DTEND;TZID=Europe/London:20250727T160000
DTSTAMP:20260420T045938
CREATED:20250227T161102Z
LAST-MODIFIED:20250423T133904Z
UID:2159-1753632000-1753632000@www.chrisostler.co.uk
SUMMARY:The Ebberley Arms\, Barnstaple
DESCRIPTION:Chris Ostler\, Solo
URL:https://www.chrisostler.co.uk/event/the-ebberley-arms-barnstaple-2/
LOCATION:The Ebberley Arms\, Barnstaple\, 40 Bear Street\, Barnstaple\, Devon\, EX32 7BZ
END:VEVENT
BEGIN:VEVENT
DTSTART;TZID=Europe/London:20250725T210000
DTEND;TZID=Europe/London:20250725T210000
DTSTAMP:20260420T045938
CREATED:20250312T122435Z
LAST-MODIFIED:20250326T151211Z
UID:2304-1753477200-1753477200@www.chrisostler.co.uk
SUMMARY:The Lord Nelson\, Topsham
DESCRIPTION:Chris Ostler\, Solo
URL:https://www.chrisostler.co.uk/event/the-lord-nelson-topsham/
LOCATION:The Lord Nelson\, Topsham\, High Street\, Topsham\, EX3 0DU
END:VEVENT
BEGIN:VEVENT
DTSTART;TZID=Europe/London:20250723T190000
DTEND;TZID=Europe/London:20250723T190000
DTSTAMP:20260420T045938
CREATED:20250604T123010Z
LAST-MODIFIED:20250723T122132Z
UID:2550-1753297200-1753297200@www.chrisostler.co.uk
SUMMARY:Parkdean Resorts Newquay Holiday Park
DESCRIPTION:Chris Ostler\, Solo
URL:https://www.chrisostler.co.uk/event/parkdean-resorts-newquay-holiday-park/
LOCATION:Parkdean Resorts Newquay Holiday Park\, Newquay\, TR8 4HS
END:VEVENT
BEGIN:VEVENT
DTSTART;TZID=Europe/London:20250720T170000
DTEND;TZID=Europe/London:20250720T170000
DTSTAMP:20260420T045938
CREATED:20250402T140243Z
LAST-MODIFIED:20250402T140243Z
UID:2450-1753030800-1753030800@www.chrisostler.co.uk
SUMMARY:The Ship Inn\, Polperro
DESCRIPTION:Chris Ostler\, Solo
URL:https://www.chrisostler.co.uk/event/the-ship-inn-polperro-2/
LOCATION:The Ship Inn\, Polperro\, Fore Street\, Polperro\, PL13 2QR
END:VEVENT
BEGIN:VEVENT
DTSTART;TZID=Europe/London:20250718T200000
DTEND;TZID=Europe/London:20250718T200000
DTSTAMP:20260420T045938
CREATED:20250227T160944Z
LAST-MODIFIED:20250326T144719Z
UID:2157-1752868800-1752868800@www.chrisostler.co.uk
SUMMARY:Golden Lion\, Port Isaac
DESCRIPTION:Chris Ostler\, Solo
URL:https://www.chrisostler.co.uk/event/golden-lion-port-isaac/
LOCATION:Golden Lion\, Port Isaac\, Fore Street\, Port Isaac\, Devon
END:VEVENT
BEGIN:VEVENT
DTSTART;TZID=Europe/London:20250712T171500
DTEND;TZID=Europe/London:20250712T171500
DTSTAMP:20260420T045938
CREATED:20250326T142321Z
LAST-MODIFIED:20250409T134206Z
UID:2372-1752340500-1752340500@www.chrisostler.co.uk
SUMMARY:Alsager Music Festival\, Alsager
DESCRIPTION:Chris Ostler\, BAND\, Ticketed
URL:https://www.chrisostler.co.uk/event/alsager-music-festival-alsager/
LOCATION:Alsager Music Festival\, Alsager\, Milton Park\, Alsager\, Cheshire
END:VEVENT
BEGIN:VEVENT
DTSTART;TZID=Europe/London:20250708T203000
DTEND;TZID=Europe/London:20250708T203000
DTSTAMP:20260420T045938
CREATED:20250326T141736Z
LAST-MODIFIED:20250326T141736Z
UID:2369-1752006600-1752006600@www.chrisostler.co.uk
SUMMARY:The Preston Gate Inn\, Bude
DESCRIPTION:Chris Ostler\, Solo
URL:https://www.chrisostler.co.uk/event/the-preston-gate-inn-bude/
LOCATION:The Preston Gate Inn\, Bude\, Poughill Road\, Bude\, EX23 9ET
END:VEVENT
BEGIN:VEVENT
DTSTART;TZID=Europe/London:20250706T200000
DTEND;TZID=Europe/London:20250706T200000
DTSTAMP:20260420T045938
CREATED:20250402T135116Z
LAST-MODIFIED:20250603T131446Z
UID:2445-1751832000-1751832000@www.chrisostler.co.uk
SUMMARY:East Barnet Festival
DESCRIPTION:Chris Ostler\, Band
URL:https://www.chrisostler.co.uk/event/east-barnet-festival/
LOCATION:East Barnet Festival\, 18 Parkside Gardens\, Osidge\, London\, EN4 8JP
END:VEVENT
BEGIN:VEVENT
DTSTART;TZID=Europe/London:20250705T211500
DTEND;TZID=Europe/London:20250705T211500
DTSTAMP:20260420T045938
CREATED:20250312T121621Z
LAST-MODIFIED:20250402T140009Z
UID:2301-1751750100-1751750100@www.chrisostler.co.uk
SUMMARY:Tencreek Holiday Park\, Looe
DESCRIPTION:Chris Ostler\, Solo
URL:https://www.chrisostler.co.uk/event/looe-bay-holiday-park-looe/
LOCATION:Tencreek Holiday Park\, Looe\, Polperro Road\, Looe\, Cornwall\, PL13 2JR
END:VEVENT
BEGIN:VEVENT
DTSTART;TZID=Europe/London:20250705T173000
DTEND;TZID=Europe/London:20250705T173000
DTSTAMP:20260420T045938
CREATED:20250312T121311Z
LAST-MODIFIED:20250326T151652Z
UID:2298-1751736600-1751736600@www.chrisostler.co.uk
SUMMARY:Kings Fest\, The Kings Arms\, Seaton
DESCRIPTION:Chris Ostler\, Solo
URL:https://www.chrisostler.co.uk/event/kings-fest-the-kings-arms-seaton/
LOCATION:The Kings Arms\, Seaton\, Fore Street\, Seaton\, EX12 2AN
END:VEVENT
BEGIN:VEVENT
DTSTART;TZID=Europe/London:20250704T190000
DTEND;TZID=Europe/London:20250704T190000
DTSTAMP:20260420T045938
CREATED:20250312T120421Z
LAST-MODIFIED:20250326T151756Z
UID:2295-1751655600-1751655600@www.chrisostler.co.uk
SUMMARY:Uffculme Music & Real Ale Festival
DESCRIPTION:Chris Ostler\, Solo\, Ticketed
URL:https://www.chrisostler.co.uk/event/uffculme-music-real-ale-festival/
LOCATION:Magelake Playing Fields\, Uffculme\, EX15 3DP
END:VEVENT
BEGIN:VEVENT
DTSTART;TZID=Europe/London:20250704T130000
DTEND;TZID=Europe/London:20250704T130000
DTSTAMP:20260420T045938
CREATED:20250227T160849Z
LAST-MODIFIED:20250326T151825Z
UID:2154-1751634000-1751634000@www.chrisostler.co.uk
SUMMARY:Exeter Craft Festival\, Cathedral Green\, Exeter
DESCRIPTION:Chris Ostler\, Solo
URL:https://www.chrisostler.co.uk/event/exeter-craft-festival-cathedral-green-exeter/
LOCATION:Exeter Craft Festival\, Cathedral Green\, Exeter\, Devon
END:VEVENT
BEGIN:VEVENT
DTSTART;TZID=Europe/London:20250629T170000
DTEND;TZID=Europe/London:20250629T170000
DTSTAMP:20260420T045938
CREATED:20250402T134432Z
LAST-MODIFIED:20250402T134432Z
UID:2442-1751216400-1751216400@www.chrisostler.co.uk
SUMMARY:The Ship Inn\, Polperro
DESCRIPTION:Chris Ostler\, Solo
URL:https://www.chrisostler.co.uk/event/the-ship-inn-polperro/
LOCATION:The Ship Inn\, Polperro\, Fore Street\, Polperro\, PL13 2QR
END:VEVENT
BEGIN:VEVENT
DTSTART;TZID=Europe/London:20250627T193000
DTEND;TZID=Europe/London:20250627T193000
DTSTAMP:20260420T045938
CREATED:20250509T130929Z
LAST-MODIFIED:20250509T130929Z
UID:2524-1751052600-1751052600@www.chrisostler.co.uk
SUMMARY:The Bar\, Teignmouth
DESCRIPTION:Chris Ostler\, Solo
URL:https://www.chrisostler.co.uk/event/the-bar-teignmouth/
LOCATION:The Bar\, Teignmouth\, 3 Teign Street\, Teignmouth\, TQ14 8EA
END:VEVENT
BEGIN:VEVENT
DTSTART;TZID=Europe/London:20250622T163000
DTEND;TZID=Europe/London:20250622T163000
DTSTAMP:20260420T045938
CREATED:20250312T115355Z
LAST-MODIFIED:20250326T151904Z
UID:2290-1750609800-1750609800@www.chrisostler.co.uk
SUMMARY:The ClayCutters Arms\, Chudleigh Knighton
DESCRIPTION:Chris Ostler\, Solo
URL:https://www.chrisostler.co.uk/event/the-claycutters-arms-chudleigh-knighton/
LOCATION:The ClayCutters Arms\, Chudleigh Knighton\, Old School Lane\, Chudleigh Knighton\, TQ13 0EY
END:VEVENT
BEGIN:VEVENT
DTSTART;TZID=Europe/London:20250621T210000
DTEND;TZID=Europe/London:20250621T210000
DTSTAMP:20260420T045938
CREATED:20250312T115028Z
LAST-MODIFIED:20250326T151937Z
UID:2288-1750539600-1750539600@www.chrisostler.co.uk
SUMMARY:The White Lion\, Braunton
DESCRIPTION:Chris Ostler\, Solo
URL:https://www.chrisostler.co.uk/event/the-white-lion-braunton-3/
LOCATION:The White Lion\, Braunton\, North Street\, Braunton\, Devon
END:VEVENT
BEGIN:VEVENT
DTSTART;TZID=Europe/London:20250621T150000
DTEND;TZID=Europe/London:20250621T150000
DTSTAMP:20260420T045938
CREATED:20250227T160358Z
LAST-MODIFIED:20250509T130454Z
UID:2148-1750518000-1750518000@www.chrisostler.co.uk
SUMMARY:Cranbrook Festival\, Cranbrook
DESCRIPTION:Chris Ostler\, Solo
URL:https://www.chrisostler.co.uk/event/cranbrook-festival-cranbrook/
LOCATION:Cranbrook Festival\, The Cranberry Farm\, Badger Way\, Cranbrook\, Devon\, EX5 7FN
END:VEVENT
BEGIN:VEVENT
DTSTART;TZID=Europe/London:20250615T150000
DTEND;TZID=Europe/London:20250615T150000
DTSTAMP:20260420T045938
CREATED:20250604T121622Z
LAST-MODIFIED:20250604T121622Z
UID:2548-1749999600-1749999600@www.chrisostler.co.uk
SUMMARY:Mambo\, Taunton
DESCRIPTION:Chris Ostler\, Solo
URL:https://www.chrisostler.co.uk/event/mambo-taunton-2/
LOCATION:Mambo\, Taunton\, Mill Lane\, Taunton\, Somerset\, TA1 1LN
END:VEVENT
BEGIN:VEVENT
DTSTART;TZID=Europe/London:20250608T152000
DTEND;TZID=Europe/London:20250608T152000
DTSTAMP:20260420T045938
CREATED:20250227T160152Z
LAST-MODIFIED:20250409T133915Z
UID:2146-1749396000-1749396000@www.chrisostler.co.uk
SUMMARY:Home Farm Festival\, Chilthorne Domer
DESCRIPTION:Chris Ostler\, BAND\, Ticketed for festival
URL:https://www.chrisostler.co.uk/event/festival-tbc/
LOCATION:Home Farm Festival\, Chilthorne Domer\, Main Street\, Chilthorne Domer\, BA22 8RD
END:VEVENT
BEGIN:VEVENT
DTSTART;TZID=Europe/London:20250607T201500
DTEND;TZID=Europe/London:20250607T201500
DTSTAMP:20260420T045938
CREATED:20250312T114249Z
LAST-MODIFIED:20250423T164758Z
UID:2282-1749327300-1749327300@www.chrisostler.co.uk
SUMMARY:Bradninch Music Festival\, Bradninch
DESCRIPTION:Chris Ostler\, BAND
URL:https://www.chrisostler.co.uk/event/bradninch-music-festival-bradninch/
LOCATION:Ye Olde White Lion\, Bradninch\, 26 High Street\, Bradninch\, EX5 4QL
END:VEVENT
BEGIN:VEVENT
DTSTART;TZID=Europe/London:20250606T193000
DTEND;TZID=Europe/London:20250606T193000
DTSTAMP:20260420T045938
CREATED:20250509T130341Z
LAST-MODIFIED:20250509T130341Z
UID:2520-1749238200-1749238200@www.chrisostler.co.uk
SUMMARY:The Mill House Inn\, Trebarwith
DESCRIPTION:Chris Ostler\, Solo
URL:https://www.chrisostler.co.uk/event/the-mill-house-inn-trebarwith/
LOCATION:The Mill House Inn\, Trebarwith\, Mill Hill\, Trebarwith Strand\, Tintagel\, PL34 0HD
END:VEVENT
BEGIN:VEVENT
DTSTART;TZID=Europe/London:20250531T140000
DTEND;TZID=Europe/London:20250531T140000
DTSTAMP:20260420T045938
CREATED:20250227T155702Z
LAST-MODIFIED:20250521T090605Z
UID:2139-1748700000-1748700000@www.chrisostler.co.uk
SUMMARY:FyneFest\, The Scottish Highlands
DESCRIPTION:Chris Ostler\, Solo\, Ticketed
URL:https://www.chrisostler.co.uk/event/fynefest-the-scottish-highlands/
LOCATION:FyneFest\, The Scottish Highlands\, Fyne Ales\, Achadunan Bungalow\, Cairndow\, PA26 8BJ
END:VEVENT
BEGIN:VEVENT
DTSTART;TZID=Europe/London:20250530T131500
DTEND;TZID=Europe/London:20250530T131500
DTSTAMP:20260420T045938
CREATED:20250227T154940Z
LAST-MODIFIED:20250326T152512Z
UID:2136-1748610900-1748610900@www.chrisostler.co.uk
SUMMARY:Flavour Fest\, Plymouth City Centre
DESCRIPTION:Chris Ostler\, Solo
URL:https://www.chrisostler.co.uk/event/flavour-fest-plymouth-city-centre/
LOCATION:Flavour Fest\, Plymouth City Centre\, The Piazza & Civic Square\, Plymouth\, Devon
END:VEVENT
BEGIN:VEVENT
DTSTART;TZID=Europe/London:20250528T210000
DTEND;TZID=Europe/London:20250528T210000
DTSTAMP:20260420T045938
CREATED:20250227T145851Z
LAST-MODIFIED:20250521T090330Z
UID:2111-1748466000-1748466000@www.chrisostler.co.uk
SUMMARY:Hedley Wood\, Holsworthy
DESCRIPTION:Chris Ostler\, Solo
URL:https://www.chrisostler.co.uk/event/hedley-wood-holsworthy/
LOCATION:Hedley Wood\, Holsworthy\, Bridgerule\, Holsworthy\, Devon
END:VEVENT
END:VCALENDAR