BEGIN:VCALENDAR
VERSION:2.0
PRODID:-//Chris Ostler - ECPv6.15.20//NONSGML v1.0//EN
CALSCALE:GREGORIAN
METHOD:PUBLISH
X-WR-CALNAME:Chris Ostler
X-ORIGINAL-URL:https://www.chrisostler.co.uk
X-WR-CALDESC:Events for Chris Ostler
REFRESH-INTERVAL;VALUE=DURATION:PT1H
X-Robots-Tag:noindex
X-PUBLISHED-TTL:PT1H
BEGIN:VTIMEZONE
TZID:Europe/London
BEGIN:DAYLIGHT
TZOFFSETFROM:+0000
TZOFFSETTO:+0100
TZNAME:BST
DTSTART:20240331T010000
END:DAYLIGHT
BEGIN:STANDARD
TZOFFSETFROM:+0100
TZOFFSETTO:+0000
TZNAME:GMT
DTSTART:20241027T010000
END:STANDARD
BEGIN:DAYLIGHT
TZOFFSETFROM:+0000
TZOFFSETTO:+0100
TZNAME:BST
DTSTART:20250330T010000
END:DAYLIGHT
BEGIN:STANDARD
TZOFFSETFROM:+0100
TZOFFSETTO:+0000
TZNAME:GMT
DTSTART:20251026T010000
END:STANDARD
BEGIN:DAYLIGHT
TZOFFSETFROM:+0000
TZOFFSETTO:+0100
TZNAME:BST
DTSTART:20260329T010000
END:DAYLIGHT
BEGIN:STANDARD
TZOFFSETFROM:+0100
TZOFFSETTO:+0000
TZNAME:GMT
DTSTART:20261025T010000
END:STANDARD
END:VTIMEZONE
BEGIN:VEVENT
DTSTART;TZID=Europe/London:20250414T200000
DTEND;TZID=Europe/London:20250414T200000
DTSTAMP:20260420T071102
CREATED:20250312T110200Z
LAST-MODIFIED:20250326T153548Z
UID:2262-1744660800-1744660800@www.chrisostler.co.uk
SUMMARY:The Old Warehouse\, Kingsbridge
DESCRIPTION:Chris Ostler\, Solo
URL:https://www.chrisostler.co.uk/event/the-old-warehouse-kingsbridge/
LOCATION:The Old Warehouse\, Kingsbridge\, 9-11 Prince of Wales Road\, Kingsbridge\, TQ7 1DY
END:VEVENT
BEGIN:VEVENT
DTSTART;TZID=Europe/London:20250412T210000
DTEND;TZID=Europe/London:20250412T210000
DTSTAMP:20260420T071102
CREATED:20250227T144359Z
LAST-MODIFIED:20250326T153617Z
UID:2100-1744491600-1744491600@www.chrisostler.co.uk
SUMMARY:The White Lion\, Braunton
DESCRIPTION:Chris Ostler\, Solo
URL:https://www.chrisostler.co.uk/event/the-white-lion-braunton/
LOCATION:The White Lion\, Braunton\, North Street\, Braunton\, Devon
END:VEVENT
BEGIN:VEVENT
DTSTART;TZID=Europe/London:20250406T200000
DTEND;TZID=Europe/London:20250406T200000
DTSTAMP:20260420T071102
CREATED:20250312T111552Z
LAST-MODIFIED:20250326T133135Z
UID:2271-1743969600-1743969600@www.chrisostler.co.uk
SUMMARY:Mount Pleasant Inn\, Dawlish Warren
DESCRIPTION:Chris Ostler Solo
URL:https://www.chrisostler.co.uk/event/mount-pleasant-inn-dawlish-warren/
LOCATION:Mount Pleasant Inn\, Dawlish Warren\, Mount Pleasant Road\, Dawlish Warren\, EX7 0NA
END:VEVENT
BEGIN:VEVENT
DTSTART;TZID=Europe/London:20250405T210000
DTEND;TZID=Europe/London:20250405T210000
DTSTAMP:20260420T071102
CREATED:20250326T133017Z
LAST-MODIFIED:20250326T153646Z
UID:2360-1743886800-1743886800@www.chrisostler.co.uk
SUMMARY:The Cowick Barton\, Exeter
DESCRIPTION:Chris Ostler\, Solo
URL:https://www.chrisostler.co.uk/event/the-cowick-barton-exeter/
LOCATION:The Cowick Barton\, Exeter\, 121 Cowick Lane\, Exeter\, EX2 9HF
END:VEVENT
BEGIN:VEVENT
DTSTART;TZID=Europe/London:20250330T190000
DTEND;TZID=Europe/London:20250330T190000
DTSTAMP:20260420T071102
CREATED:20250312T105351Z
LAST-MODIFIED:20250326T153722Z
UID:2259-1743361200-1743361200@www.chrisostler.co.uk
SUMMARY:Yates\, Torquay
DESCRIPTION:Chris Ostler\, Solo
URL:https://www.chrisostler.co.uk/event/yates-torquay/
LOCATION:Yates\, Torquay\, 15-16 The Strand\, Torquay\, Devon\, TQ1 2AA
END:VEVENT
BEGIN:VEVENT
DTSTART;TZID=Europe/London:20250329T150000
DTEND;TZID=Europe/London:20250329T150000
DTSTAMP:20260420T071102
CREATED:20250227T144021Z
LAST-MODIFIED:20250326T153745Z
UID:2097-1743260400-1743260400@www.chrisostler.co.uk
SUMMARY:The Phoenix\, Exmouth
DESCRIPTION:Chris Ostler\, Solo
URL:https://www.chrisostler.co.uk/event/the-pheonix-exmouth/
LOCATION:The Phoenix\, Exmouth\, 31 Exeter Road\, Exmouth\, Devon
END:VEVENT
BEGIN:VEVENT
DTSTART;TZID=Europe/London:20250328T213000
DTEND;TZID=Europe/London:20250328T213000
DTSTAMP:20260420T071102
CREATED:20250326T132457Z
LAST-MODIFIED:20250326T153814Z
UID:2357-1743197400-1743197400@www.chrisostler.co.uk
SUMMARY:The Castle Inn\, St Ives
DESCRIPTION:Chris Ostler\, Solo
URL:https://www.chrisostler.co.uk/event/the-castle-inn-st-ives/
LOCATION:The Castle Inn\, St Ives\, St Ives\, Cornwall\, TR26 1AB
END:VEVENT
BEGIN:VEVENT
DTSTART;TZID=Europe/London:20250324T203000
DTEND;TZID=Europe/London:20250324T203000
DTSTAMP:20260420T071102
CREATED:20250227T142747Z
LAST-MODIFIED:20250303T174853Z
UID:2087-1742848200-1742848200@www.chrisostler.co.uk
SUMMARY:Unity Beach\, Brean
DESCRIPTION:Solo
URL:https://www.chrisostler.co.uk/event/unity-beach-brean/
LOCATION:Unity Beach\, Brean\, Coast Road\, Brean Sands\, Somerset\, TA8 2RB
END:VEVENT
BEGIN:VEVENT
DTSTART;TZID=Europe/London:20250323T160000
DTEND;TZID=Europe/London:20250323T160000
DTSTAMP:20260420T071102
CREATED:20250227T142413Z
LAST-MODIFIED:20250323T105544Z
UID:2084-1742745600-1742745600@www.chrisostler.co.uk
SUMMARY:CANCELLED - Sorry\, but to be rescheduled - London Inn\, Padstow
DESCRIPTION:Cancelled by venue. New date to be scheduled soon.
URL:https://www.chrisostler.co.uk/event/london-inn-padstow/
LOCATION:London Inn\, Padstow\, 6-8 Lanadwell Street\, Padstow\, PL28 8AN
END:VEVENT
BEGIN:VEVENT
DTSTART;TZID=Europe/London:20250322T164500
DTEND;TZID=Europe/London:20250322T164500
DTSTAMP:20260420T071102
CREATED:20250227T142120Z
LAST-MODIFIED:20250303T175008Z
UID:2081-1742661900-1742661900@www.chrisostler.co.uk
SUMMARY:Topsham Rugby Club\, Topsham
DESCRIPTION:Solo
URL:https://www.chrisostler.co.uk/event/topsham-rugby-club-topsham/
LOCATION:Topsham Rugby Club\, Topsham\, Exeter Road\, Topsham\, Devon\, EX3 0LY
END:VEVENT
BEGIN:VEVENT
DTSTART;TZID=Europe/London:20250321T200000
DTEND;TZID=Europe/London:20250321T200000
DTSTAMP:20260420T071102
CREATED:20250226T212918Z
LAST-MODIFIED:20250318T195830Z
UID:2025-1742587200-1742587200@www.chrisostler.co.uk
SUMMARY:The Ship Inn\, Mousehole
DESCRIPTION:Solo
URL:https://www.chrisostler.co.uk/event/the-ship-inn-mousehole/
LOCATION:The Ship Inn\, Mousehole\, South Cliff\, Mousehole\, Cornwall\, TR19 6QX
END:VEVENT
BEGIN:VEVENT
DTSTART;TZID=Europe/London:20250314T180000
DTEND;TZID=Europe/London:20250314T200000
DTSTAMP:20260420T071102
CREATED:20250227T083301Z
LAST-MODIFIED:20250312T103900Z
UID:2062-1741975200-1741982400@www.chrisostler.co.uk
SUMMARY:Topsham Football Club\, Topsham
DESCRIPTION:Solo
URL:https://www.chrisostler.co.uk/event/topsham-football-club-topsham/
LOCATION:Topsham Football Club\, Coronation Field\, Topsham\, Devon\, EX3 0LT
END:VEVENT
BEGIN:VEVENT
DTSTART;TZID=Europe/London:20250308T210000
DTEND;TZID=Europe/London:20250308T210000
DTSTAMP:20260420T071102
CREATED:20250308T090150Z
LAST-MODIFIED:20250308T090150Z
UID:2240-1741467600-1741467600@www.chrisostler.co.uk
SUMMARY:Royal Clarence\, Seaton
DESCRIPTION:Solo. The night before the Grizzly…
URL:https://www.chrisostler.co.uk/event/royal-clarence-seaton/
LOCATION:Royal Clarence\, Seaton\, 1 Harbour Road\, Seaton\, EX12 2LX
END:VEVENT
BEGIN:VEVENT
DTSTART;TZID=Europe/London:20250228T200000
DTEND;TZID=Europe/London:20250228T200000
DTSTAMP:20260420T071102
CREATED:20250227T075459Z
LAST-MODIFIED:20250303T175305Z
UID:2045-1740772800-1740772800@www.chrisostler.co.uk
SUMMARY:The Golden Lion\, Port Isaac
DESCRIPTION:Solo
URL:https://www.chrisostler.co.uk/event/the-golden-lion-port-isaac/
LOCATION:Golden Lion\, Port Isaac\, Fore Street\, Port Isaac\, Devon
END:VEVENT
END:VCALENDAR