BEGIN:VCALENDAR
VERSION:2.0
PRODID:-//Chris Ostler - ECPv6.15.20//NONSGML v1.0//EN
CALSCALE:GREGORIAN
METHOD:PUBLISH
X-WR-CALNAME:Chris Ostler
X-ORIGINAL-URL:https://www.chrisostler.co.uk
X-WR-CALDESC:Events for Chris Ostler
REFRESH-INTERVAL;VALUE=DURATION:PT1H
X-Robots-Tag:noindex
X-PUBLISHED-TTL:PT1H
BEGIN:VTIMEZONE
TZID:Europe/London
BEGIN:DAYLIGHT
TZOFFSETFROM:+0000
TZOFFSETTO:+0100
TZNAME:BST
DTSTART:20250330T010000
END:DAYLIGHT
BEGIN:STANDARD
TZOFFSETFROM:+0100
TZOFFSETTO:+0000
TZNAME:GMT
DTSTART:20251026T010000
END:STANDARD
BEGIN:DAYLIGHT
TZOFFSETFROM:+0000
TZOFFSETTO:+0100
TZNAME:BST
DTSTART:20260329T010000
END:DAYLIGHT
BEGIN:STANDARD
TZOFFSETFROM:+0100
TZOFFSETTO:+0000
TZNAME:GMT
DTSTART:20261025T010000
END:STANDARD
BEGIN:DAYLIGHT
TZOFFSETFROM:+0000
TZOFFSETTO:+0100
TZNAME:BST
DTSTART:20270328T010000
END:DAYLIGHT
BEGIN:STANDARD
TZOFFSETFROM:+0100
TZOFFSETTO:+0000
TZNAME:GMT
DTSTART:20271031T010000
END:STANDARD
END:VTIMEZONE
BEGIN:VEVENT
DTSTART;TZID=Europe/London:20260711T200000
DTEND;TZID=Europe/London:20260711T200000
DTSTAMP:20260420T050242
CREATED:20260413T133809Z
LAST-MODIFIED:20260413T133809Z
UID:3052-1783800000-1783800000@www.chrisostler.co.uk
SUMMARY:Polperro Holiday Park\, Looe
DESCRIPTION:Chris Ostler\, Solo
URL:https://www.chrisostler.co.uk/event/polperro-holiday-park-looe/
LOCATION:Polperro Holiday Park\, Looe\, Polperro Road\, Polperro
END:VEVENT
BEGIN:VEVENT
DTSTART;TZID=Europe/London:20260712T160000
DTEND;TZID=Europe/London:20260712T160000
DTSTAMP:20260420T050242
CREATED:20251230T135007Z
LAST-MODIFIED:20260304T135606Z
UID:2935-1783872000-1783872000@www.chrisostler.co.uk
SUMMARY:Ebberly Arms\, Barnstaple
DESCRIPTION:Chris Ostler\, Solo
URL:https://www.chrisostler.co.uk/event/ebberly-arms-barnstaple-2/
LOCATION:The Ebberley Arms\, Barnstaple\, 40 Bear Street\, Barnstaple\, Devon\, EX32 7BZ
END:VEVENT
BEGIN:VEVENT
DTSTART;TZID=Europe/London:20260717T200000
DTEND;TZID=Europe/London:20260717T200000
DTSTAMP:20260420T050242
CREATED:20260413T134125Z
LAST-MODIFIED:20260413T134125Z
UID:3055-1784318400-1784318400@www.chrisostler.co.uk
SUMMARY:Newquay Holiday Park\, Newquay
DESCRIPTION:Chris Ostler\, Solo
URL:https://www.chrisostler.co.uk/event/newquay-holiday-park-newquay/
LOCATION:Parkdean Resorts Newquay Holiday Park\, Newquay\, TR8 4HS
END:VEVENT
BEGIN:VEVENT
DTSTART;TZID=Europe/London:20260718T203000
DTEND;TZID=Europe/London:20260718T203000
DTSTAMP:20260420T050242
CREATED:20260122T134809Z
LAST-MODIFIED:20260413T134339Z
UID:3057-1784406600-1784406600@www.chrisostler.co.uk
SUMMARY:The Portreath Arms\, Portreath
DESCRIPTION:Chris Ostler\, Solo
URL:https://www.chrisostler.co.uk/event/the-portreath-arms-portreath-3-2-2/
LOCATION:The Portreath Arms\, Portreath\, The Square\, Portreath\, TR16 4LA
END:VEVENT
BEGIN:VEVENT
DTSTART;TZID=Europe/London:20260724T210000
DTEND;TZID=Europe/London:20260724T210000
DTSTAMP:20260420T050242
CREATED:20250312T121621Z
LAST-MODIFIED:20260413T134623Z
UID:3060-1784926800-1784926800@www.chrisostler.co.uk
SUMMARY:Tencreek Holiday Park\, Looe
DESCRIPTION:Chris Ostler\, Solo
URL:https://www.chrisostler.co.uk/event/looe-bay-holiday-park-looe-2/
LOCATION:Tencreek Holiday Park\, Looe\, Polperro Road\, Looe\, Cornwall\, PL13 2JR
END:VEVENT
BEGIN:VEVENT
DTSTART;TZID=Europe/London:20260725T140000
DTEND;TZID=Europe/London:20260725T140000
DTSTAMP:20260420T050242
CREATED:20260413T140248Z
LAST-MODIFIED:20260413T140248Z
UID:3063-1784988000-1784988000@www.chrisostler.co.uk
SUMMARY:Mid Devon Show Music Fest\, Tiverton
DESCRIPTION:Chris Ostler\, Solo
URL:https://www.chrisostler.co.uk/event/mid-devon-show-music-fest-tiverton/
LOCATION:Mid Devon Show\, Tiverton\, Knightshayes\, Chettiscombe\, Devon
END:VEVENT
BEGIN:VEVENT
DTSTART;TZID=Europe/London:20260725T200000
DTEND;TZID=Europe/London:20260725T200000
DTSTAMP:20260420T050242
CREATED:20251230T134502Z
LAST-MODIFIED:20260413T140554Z
UID:3066-1785009600-1785009600@www.chrisostler.co.uk
SUMMARY:Lord Nelson\, Topsham
DESCRIPTION:Chris Ostler\, Solo
URL:https://www.chrisostler.co.uk/event/lord-nelson-topsham-2/
LOCATION:The Lord Nelson\, Topsham\, High Street\, Topsham\, EX3 0DU
END:VEVENT
BEGIN:VEVENT
DTSTART;TZID=Europe/London:20260729T183000
DTEND;TZID=Europe/London:20260729T183000
DTSTAMP:20260420T050242
CREATED:20260413T141017Z
LAST-MODIFIED:20260413T141017Z
UID:3068-1785349800-1785349800@www.chrisostler.co.uk
SUMMARY:Stokeley Farm Shop\, Kingsbridge
DESCRIPTION:Chris Ostler\, Solo
URL:https://www.chrisostler.co.uk/event/stokeley-farm-shop-kingsbridge/
LOCATION:Stokeley Farm Shop\, Kingsbridge\, Stokeley Barton Famrs\, Stokenham\, TQ7 2SE
END:VEVENT
BEGIN:VEVENT
DTSTART;TZID=Europe/London:20260731T200000
DTEND;TZID=Europe/London:20260731T200000
DTSTAMP:20260420T050242
CREATED:20250312T111149Z
LAST-MODIFIED:20260413T141304Z
UID:3072-1785528000-1785528000@www.chrisostler.co.uk
SUMMARY:The Brass\, Teignmouth
DESCRIPTION:Chris Ostler\, Solo
URL:https://www.chrisostler.co.uk/event/the-brass-teignmouth-2/
LOCATION:The Brass\, Teignmouth\, Hollands Road\, Teignmouth\, TQ14 8SR
END:VEVENT
BEGIN:VEVENT
DTSTART;TZID=Europe/London:20260807T140000
DTEND;TZID=Europe/London:20260807T140000
DTSTAMP:20260420T050242
CREATED:20260413T142407Z
LAST-MODIFIED:20260413T142407Z
UID:3074-1786111200-1786111200@www.chrisostler.co.uk
SUMMARY:Lakefest\, VIP Stage\, Eastnor
DESCRIPTION:Chris Ostler\, Solo
URL:https://www.chrisostler.co.uk/event/lakefest-vip-stage-eastnor/
LOCATION:Lakefest\, Eastnor\, Eastnor Deer Park\, Wastnor\, Herefordshire\, HR8 1EN
END:VEVENT
BEGIN:VEVENT
DTSTART;TZID=Europe/London:20260807T193000
DTEND;TZID=Europe/London:20260807T193000
DTSTAMP:20260420T050242
CREATED:20251022T133544Z
LAST-MODIFIED:20260324T132644Z
UID:2990-1786131000-1786131000@www.chrisostler.co.uk
SUMMARY:The Cranberry Farm\, Cranbrook
DESCRIPTION:Chris Ostler\, Solo
URL:https://www.chrisostler.co.uk/event/the-cranberry-farm-cranbrook-2-2-2-2/
LOCATION:The Cranberry Farm\, Cranbrook\, Badger Way\, Cranbrook\, EX5 7FN
END:VEVENT
BEGIN:VEVENT
DTSTART;TZID=Europe/London:20260815T210000
DTEND;TZID=Europe/London:20260815T210000
DTSTAMP:20260420T050242
CREATED:20260122T141103Z
LAST-MODIFIED:20260413T131249Z
UID:3013-1786827600-1786827600@www.chrisostler.co.uk
SUMMARY:The White Lion\, Braunton
DESCRIPTION:Chris Ostler\, Solo
URL:https://www.chrisostler.co.uk/event/the-white-lion-braunton-8-3/
LOCATION:The White Lion\, Braunton\, North Street\, Braunton\, Devon
END:VEVENT
BEGIN:VEVENT
DTSTART;TZID=Europe/London:20260904T193000
DTEND;TZID=Europe/London:20260904T193000
DTSTAMP:20260420T050242
CREATED:20251022T133544Z
LAST-MODIFIED:20260324T132702Z
UID:2992-1788550200-1788550200@www.chrisostler.co.uk
SUMMARY:The Cranberry Farm\, Cranbrook
DESCRIPTION:Chris Ostler\, Solo
URL:https://www.chrisostler.co.uk/event/the-cranberry-farm-cranbrook-2-2-2-2-2/
LOCATION:The Cranberry Farm\, Cranbrook\, Badger Way\, Cranbrook\, EX5 7FN
END:VEVENT
BEGIN:VEVENT
DTSTART;TZID=Europe/London:20261002T193000
DTEND;TZID=Europe/London:20261002T193000
DTSTAMP:20260420T050242
CREATED:20251022T133544Z
LAST-MODIFIED:20260324T132724Z
UID:2994-1790969400-1790969400@www.chrisostler.co.uk
SUMMARY:The Cranberry Farm\, Cranbrook
DESCRIPTION:Chris Ostler\, Solo
URL:https://www.chrisostler.co.uk/event/the-cranberry-farm-cranbrook-2-2-2-2-2-2/
LOCATION:The Cranberry Farm\, Cranbrook\, Badger Way\, Cranbrook\, EX5 7FN
END:VEVENT
BEGIN:VEVENT
DTSTART;TZID=Europe/London:20261004T160000
DTEND;TZID=Europe/London:20261004T160000
DTSTAMP:20260420T050242
CREATED:20251230T135007Z
LAST-MODIFIED:20260304T135627Z
UID:2937-1791129600-1791129600@www.chrisostler.co.uk
SUMMARY:Ebberly Arms\, Barnstaple
DESCRIPTION:Chris Ostler\, Solo
URL:https://www.chrisostler.co.uk/event/ebberly-arms-barnstaple-2-2/
LOCATION:The Ebberley Arms\, Barnstaple\, 40 Bear Street\, Barnstaple\, Devon\, EX32 7BZ
END:VEVENT
BEGIN:VEVENT
DTSTART;TZID=Europe/London:20261009T203000
DTEND;TZID=Europe/London:20261009T203000
DTSTAMP:20260420T050242
CREATED:20251126T114732Z
LAST-MODIFIED:20260304T142457Z
UID:2954-1791577800-1791577800@www.chrisostler.co.uk
SUMMARY:Blues Bar\, Weston-super-Mare
DESCRIPTION:Chris Ostler\, Solo
URL:https://www.chrisostler.co.uk/event/blues-bar-weston-super-mare-2-2/
LOCATION:Blues Bar\, Weston-super-Mare\, 24 Meadow Street\, Weston-super-Mare\, BS23 1QQ
END:VEVENT
BEGIN:VEVENT
DTSTART;TZID=Europe/London:20261010T203000
DTEND;TZID=Europe/London:20261010T203000
DTSTAMP:20260420T050242
CREATED:20250312T123635Z
LAST-MODIFIED:20260304T140040Z
UID:2941-1791664200-1791664200@www.chrisostler.co.uk
SUMMARY:Hengar Manor Holiday Park\, Bodmin
DESCRIPTION:Chris Ostler\, Solo
URL:https://www.chrisostler.co.uk/event/hengar-manor-holiday-park-bodmin-2-2-2/
LOCATION:Hengar Manor Holiday Park\, Bodmin\, St Tudy\, Bodmin\, PL30 3PL
END:VEVENT
BEGIN:VEVENT
DTSTART;TZID=Europe/London:20261204T193000
DTEND;TZID=Europe/London:20261204T193000
DTSTAMP:20260420T050242
CREATED:20251022T133544Z
LAST-MODIFIED:20260324T132747Z
UID:2996-1796412600-1796412600@www.chrisostler.co.uk
SUMMARY:The Cranberry Farm\, Cranbrook
DESCRIPTION:Chris Ostler\, Solo
URL:https://www.chrisostler.co.uk/event/the-cranberry-farm-cranbrook-2-2-2-2-2-2-2/
LOCATION:The Cranberry Farm\, Cranbrook\, Badger Way\, Cranbrook\, EX5 7FN
END:VEVENT
END:VCALENDAR