BEGIN:VCALENDAR
VERSION:2.0
PRODID:-//Chris Ostler - ECPv6.15.20//NONSGML v1.0//EN
CALSCALE:GREGORIAN
METHOD:PUBLISH
X-WR-CALNAME:Chris Ostler
X-ORIGINAL-URL:https://www.chrisostler.co.uk
X-WR-CALDESC:Events for Chris Ostler
REFRESH-INTERVAL;VALUE=DURATION:PT1H
X-Robots-Tag:noindex
X-PUBLISHED-TTL:PT1H
BEGIN:VTIMEZONE
TZID:Europe/London
BEGIN:DAYLIGHT
TZOFFSETFROM:+0000
TZOFFSETTO:+0100
TZNAME:BST
DTSTART:20240331T010000
END:DAYLIGHT
BEGIN:STANDARD
TZOFFSETFROM:+0100
TZOFFSETTO:+0000
TZNAME:GMT
DTSTART:20241027T010000
END:STANDARD
BEGIN:DAYLIGHT
TZOFFSETFROM:+0000
TZOFFSETTO:+0100
TZNAME:BST
DTSTART:20250330T010000
END:DAYLIGHT
BEGIN:STANDARD
TZOFFSETFROM:+0100
TZOFFSETTO:+0000
TZNAME:GMT
DTSTART:20251026T010000
END:STANDARD
BEGIN:DAYLIGHT
TZOFFSETFROM:+0000
TZOFFSETTO:+0100
TZNAME:BST
DTSTART:20260329T010000
END:DAYLIGHT
BEGIN:STANDARD
TZOFFSETFROM:+0100
TZOFFSETTO:+0000
TZNAME:GMT
DTSTART:20261025T010000
END:STANDARD
END:VTIMEZONE
BEGIN:VEVENT
DTSTART;TZID=Europe/London:20250530T131500
DTEND;TZID=Europe/London:20250530T131500
DTSTAMP:20260420T031340
CREATED:20250227T154940Z
LAST-MODIFIED:20250326T152512Z
UID:2136-1748610900-1748610900@www.chrisostler.co.uk
SUMMARY:Flavour Fest\, Plymouth City Centre
DESCRIPTION:Chris Ostler\, Solo
URL:https://www.chrisostler.co.uk/event/flavour-fest-plymouth-city-centre/
LOCATION:Flavour Fest\, Plymouth City Centre\, The Piazza & Civic Square\, Plymouth\, Devon
END:VEVENT
BEGIN:VEVENT
DTSTART;TZID=Europe/London:20250528T210000
DTEND;TZID=Europe/London:20250528T210000
DTSTAMP:20260420T031340
CREATED:20250227T145851Z
LAST-MODIFIED:20250521T090330Z
UID:2111-1748466000-1748466000@www.chrisostler.co.uk
SUMMARY:Hedley Wood\, Holsworthy
DESCRIPTION:Chris Ostler\, Solo
URL:https://www.chrisostler.co.uk/event/hedley-wood-holsworthy/
LOCATION:Hedley Wood\, Holsworthy\, Bridgerule\, Holsworthy\, Devon
END:VEVENT
BEGIN:VEVENT
DTSTART;TZID=Europe/London:20250526T123000
DTEND;TZID=Europe/London:20250526T123000
DTSTAMP:20260420T031340
CREATED:20250312T113131Z
LAST-MODIFIED:20250514T132249Z
UID:2279-1748262600-1748262600@www.chrisostler.co.uk
SUMMARY:King's Teignton Ram Fair\, Kingsteignton
DESCRIPTION:Chris Ostler\, Solo
URL:https://www.chrisostler.co.uk/event/kings-teignton-ram-fair-kingsteignton/
LOCATION:King’s Teignton Ram Fair\, Kingsteignton\, Oakford\, Kingsteignton\, TQ12 3EG
END:VEVENT
BEGIN:VEVENT
DTSTART;TZID=Europe/London:20250525T210000
DTEND;TZID=Europe/London:20250525T210000
DTSTAMP:20260420T031340
CREATED:20250312T112654Z
LAST-MODIFIED:20250521T090215Z
UID:2276-1748206800-1748206800@www.chrisostler.co.uk
SUMMARY:Hengar Manor Holiday Park\, Bodmin
DESCRIPTION:Chris Ostler\, Solo
URL:https://www.chrisostler.co.uk/event/hengar-manor-holiday-park-bodmin/
LOCATION:Hengar Manor Holiday Park\, Bodmin\, St Tudy\, Bodmin\, PL30 3PL
END:VEVENT
BEGIN:VEVENT
DTSTART;TZID=Europe/London:20250525T143000
DTEND;TZID=Europe/London:20250525T143000
DTSTAMP:20260420T031340
CREATED:20250227T154634Z
LAST-MODIFIED:20250326T152715Z
UID:2133-1748183400-1748183400@www.chrisostler.co.uk
SUMMARY:The Crown Inn\, Taunton
DESCRIPTION:Chris Ostler\, Solo
URL:https://www.chrisostler.co.uk/event/the-crown-inn-taunton/
LOCATION:The Crown Inn\, Taunton\, Taunton\, Somerset\, TA3 6PQ
END:VEVENT
BEGIN:VEVENT
DTSTART;TZID=Europe/London:20250524T200000
DTEND;TZID=Europe/London:20250524T200000
DTSTAMP:20260420T031340
CREATED:20250521T085923Z
LAST-MODIFIED:20250521T092402Z
UID:2539-1748116800-1748116800@www.chrisostler.co.uk
SUMMARY:The David Hall\, South Petherton\, Supporting Barefoot Bandit
DESCRIPTION:Chris Ostler\, Solo\, Supporting Barefoot Bandit\, Ticketed \nEvents 24-25 – The David Hall
URL:https://www.chrisostler.co.uk/event/the-david-hall-south-petherton/
LOCATION:The David Hall\, South Petherton\, Roundwell Street\, South Petherton\, TA13 5AA
END:VEVENT
BEGIN:VEVENT
DTSTART;TZID=Europe/London:20250523T230000
DTEND;TZID=Europe/London:20250523T230000
DTSTAMP:20260420T031340
CREATED:20250514T131531Z
LAST-MODIFIED:20250521T085312Z
UID:2517-1748041200-1748041200@www.chrisostler.co.uk
SUMMARY:GlastonBudget\, Wymeswold
DESCRIPTION:Chris Ostler\, VIP Lounge\, Solo\, Ticketed
URL:https://www.chrisostler.co.uk/event/glastonbudget-wymeswold/
LOCATION:GlastonBudget\, Wymeswold\, Turnpost Farm\, Wymeswold\, LE12 6SU
END:VEVENT
BEGIN:VEVENT
DTSTART;TZID=Europe/London:20250518T140000
DTEND;TZID=Europe/London:20250518T140000
DTSTAMP:20260420T031340
CREATED:20250508T202251Z
LAST-MODIFIED:20250508T202251Z
UID:2514-1747576800-1747576800@www.chrisostler.co.uk
SUMMARY:The Pitch\, St Austell
DESCRIPTION:Chris Ostler\, Solo
URL:https://www.chrisostler.co.uk/event/the-pitch-st-austell/
LOCATION:The Pitch\, St Austell\, Boscawen Park\, St Dennis\, Saint Austell\, PL26 8DT
END:VEVENT
BEGIN:VEVENT
DTSTART;TZID=Europe/London:20250517T190000
DTEND;TZID=Europe/London:20250517T190000
DTSTAMP:20260420T031340
CREATED:20250227T152918Z
LAST-MODIFIED:20250326T152750Z
UID:2130-1747508400-1747508400@www.chrisostler.co.uk
SUMMARY:Coldharbour Acoustic Sessions\, Ottery St Mary
DESCRIPTION:Chris Ostler\, Solo
URL:https://www.chrisostler.co.uk/event/coldharbour-acoustic-sessions-ottery-st-mary/
LOCATION:Coldharbour Farm Shop and Field Kitchen\, Coldharbour Farm\, East Hill\, Ottery Saint Mary\, Devon\, EX11 1QL
END:VEVENT
BEGIN:VEVENT
DTSTART;TZID=Europe/London:20250516T180000
DTEND;TZID=Europe/London:20250516T180000
DTSTAMP:20260420T031340
CREATED:20250227T152538Z
LAST-MODIFIED:20250514T131401Z
UID:2127-1747418400-1747418400@www.chrisostler.co.uk
SUMMARY:Tencreek Holiday Park\, Beer Festival\, Looe
DESCRIPTION:Chris Ostler\, Solo
URL:https://www.chrisostler.co.uk/event/tencreek-holiday-park-beer-festival-looe/
LOCATION:Tencreek Holiday Park\, Looe\, Polperro Road\, Looe\, Cornwall\, PL13 2JR
END:VEVENT
BEGIN:VEVENT
DTSTART;TZID=Europe/London:20250515T180000
DTEND;TZID=Europe/London:20250515T180000
DTSTAMP:20260420T031340
CREATED:20250402T133749Z
LAST-MODIFIED:20250402T133749Z
UID:2439-1747332000-1747332000@www.chrisostler.co.uk
SUMMARY:Devon County Show\, Greendale stall
DESCRIPTION:Chris Ostler\, Solo\, Ticketed for Show.
URL:https://www.chrisostler.co.uk/event/devon-county-show-greendale-stall/
LOCATION:Devon County Show\, Exeter\, Westpoint\, Exeter\, EX5 1DJ
END:VEVENT
BEGIN:VEVENT
DTSTART;TZID=Europe/London:20250511T164500
DTEND;TZID=Europe/London:20250511T164500
DTSTAMP:20260420T031340
CREATED:20250227T152236Z
LAST-MODIFIED:20250425T114139Z
UID:2124-1746981900-1746981900@www.chrisostler.co.uk
SUMMARY:Exeter Suite\, Western Grandstand\, Exeter Chiefs\, Sandy Park (WITH BAND)
DESCRIPTION:Chris Ostler\, BAND\, Ticketed
URL:https://www.chrisostler.co.uk/event/exeter-suite-grandstand-exeter-chiefs-sandy-park-with-band/
LOCATION:Exeter Chiefs\, Sandy Park\, Sandy Park Stadium\, Exeter\, Devon\, EX2 7NN
END:VEVENT
BEGIN:VEVENT
DTSTART;TZID=Europe/London:20250511T134500
DTEND;TZID=Europe/London:20250511T134500
DTSTAMP:20260420T031340
CREATED:20250508T194930Z
LAST-MODIFIED:20250508T195027Z
UID:2511-1746971100-1746971100@www.chrisostler.co.uk
SUMMARY:Exeter Chiefs Piazza\, Exeter
DESCRIPTION:Chris Ostler\, Solo
URL:https://www.chrisostler.co.uk/event/exeter-chriefs-piazza-exeter/
LOCATION:Exeter Chiefs\, Sandy Park\, Sandy Park Stadium\, Exeter\, Devon\, EX2 7NN
END:VEVENT
BEGIN:VEVENT
DTSTART;TZID=Europe/London:20250510T210000
DTEND;TZID=Europe/London:20250510T210000
DTSTAMP:20260420T031340
CREATED:20250508T194423Z
LAST-MODIFIED:20250508T194423Z
UID:2508-1746910800-1746910800@www.chrisostler.co.uk
SUMMARY:The Bettle & Chisel\, Delabole
DESCRIPTION:Chris Ostler\, Solo
URL:https://www.chrisostler.co.uk/event/the-bettle-chisel-delabole/
LOCATION:Bettle and Chisel\, 114 High Street\, Delabole\, PL33 9AQ
END:VEVENT
BEGIN:VEVENT
DTSTART;TZID=Europe/London:20250509T190000
DTEND;TZID=Europe/London:20250509T190000
DTSTAMP:20260420T031340
CREATED:20250227T151750Z
LAST-MODIFIED:20250508T193955Z
UID:2121-1746817200-1746817200@www.chrisostler.co.uk
SUMMARY:Mambo\, Taunton
DESCRIPTION:Chris Ostler\, Solo
URL:https://www.chrisostler.co.uk/event/mambo-taunton/
LOCATION:Mambo\, Taunton\, Mill Lane\, Taunton\, Somerset\, TA1 1LN
END:VEVENT
BEGIN:VEVENT
DTSTART;TZID=Europe/London:20250504T123000
DTEND;TZID=Europe/London:20250504T123000
DTSTAMP:20260420T031340
CREATED:20250312T111947Z
LAST-MODIFIED:20250326T141027Z
UID:2274-1746361800-1746361800@www.chrisostler.co.uk
SUMMARY:Topsham Rugby Club\, Topsham
DESCRIPTION:Chris Ostler\, Solo
URL:https://www.chrisostler.co.uk/event/topsham-rugby-club-topsham-2/
LOCATION:Topsham Rugby Club\, Topsham\, Exeter Road\, Topsham\, Devon\, EX3 0LY
END:VEVENT
BEGIN:VEVENT
DTSTART;TZID=Europe/London:20250503T213000
DTEND;TZID=Europe/London:20250503T213000
DTSTAMP:20260420T031340
CREATED:20250227T151035Z
LAST-MODIFIED:20250430T155101Z
UID:2118-1746307800-1746307800@www.chrisostler.co.uk
SUMMARY:CANCELLED - The David Hall\, South Petherton - Supporting Year of the Dog
DESCRIPTION:Sorry\, this event has been cancelled by the venue. \nChris Ostler\, Solo\, Looking forward to supporting Year of the Dog at The David Hall. Ticketed
URL:https://www.chrisostler.co.uk/event/the-david-hall-south-petherton-supporting-year-of-the-dog/
LOCATION:The David Hall\, South Petherton\, Roundwell Street\, South Petherton\, TA13 5AA
END:VEVENT
BEGIN:VEVENT
DTSTART;TZID=Europe/London:20250503T123000
DTEND;TZID=Europe/London:20250503T123000
DTSTAMP:20260420T031340
CREATED:20250501T102417Z
LAST-MODIFIED:20250501T102417Z
UID:2502-1746275400-1746275400@www.chrisostler.co.uk
SUMMARY:The Thirsty Turtle Outside Bar\, Exmouth
DESCRIPTION:Chris Ostler\, Solo
URL:https://www.chrisostler.co.uk/event/the-thirsty-turtle-outside-bar-exmouth/
LOCATION:The Thirsty Turtle\, Exmouth\, Queens Drive Space\, Exmouth\, Devon\, United Kingdom
END:VEVENT
BEGIN:VEVENT
DTSTART;TZID=Europe/London:20250502T213000
DTEND;TZID=Europe/London:20250502T213000
DTSTAMP:20260420T031340
CREATED:20250227T150305Z
LAST-MODIFIED:20250326T153236Z
UID:2115-1746221400-1746221400@www.chrisostler.co.uk
SUMMARY:The Bulls Head\, Callington
DESCRIPTION:Chris Ostler\, Solo
URL:https://www.chrisostler.co.uk/event/the-bulls-head-callington/
LOCATION:The Bulls Head\, Callington\, 38 Fore Street\, Callington\, PL17 7AQ
END:VEVENT
BEGIN:VEVENT
DTSTART;TZID=Europe/London:20250502T131500
DTEND;TZID=Europe/London:20250502T131500
DTSTAMP:20260420T031340
CREATED:20250409T132948Z
LAST-MODIFIED:20250409T133007Z
UID:2470-1746191700-1746191700@www.chrisostler.co.uk
SUMMARY:Toby's Garden Festival\, Powderham Castle
DESCRIPTION:Chris Ostler\, Solo\, Ticketed for festival entrance
URL:https://www.chrisostler.co.uk/event/tobys-garden-festival-powderham-castle/
LOCATION:Toby’s Garden Festival\, Powderham Castle\, Powderham Castle\, Kenton\, EX6 8JQ
END:VEVENT
BEGIN:VEVENT
DTSTART;TZID=Europe/London:20250427T160000
DTEND;TZID=Europe/London:20250427T160000
DTSTAMP:20260420T031340
CREATED:20250227T145244Z
LAST-MODIFIED:20250423T133947Z
UID:2108-1745769600-1745769600@www.chrisostler.co.uk
SUMMARY:The Ebberley Arms\, Barnstaple
DESCRIPTION:Chris Ostler\, Solo
URL:https://www.chrisostler.co.uk/event/the-ebberley-arms-barnstaple/
LOCATION:The Ebberley Arms\, Barnstaple\, 40 Bear Street\, Barnstaple\, Devon\, EX32 7BZ
END:VEVENT
BEGIN:VEVENT
DTSTART;TZID=Europe/London:20250426T213000
DTEND;TZID=Europe/London:20250426T213000
DTSTAMP:20260420T031340
CREATED:20250326T133510Z
LAST-MODIFIED:20250326T133510Z
UID:2365-1745703000-1745703000@www.chrisostler.co.uk
SUMMARY:The Copper House Inn\, Hayle
DESCRIPTION:Chris Ostler\, Solo
URL:https://www.chrisostler.co.uk/event/the-copper-house-inn-hayle/
LOCATION:The Copper House Inn\, Hayle\, 11 Fore Street\, Hayle\, TR27 4DY
END:VEVENT
BEGIN:VEVENT
DTSTART;TZID=Europe/London:20250426T170000
DTEND;TZID=Europe/London:20250426T170000
DTSTAMP:20260420T031340
CREATED:20250402T133153Z
LAST-MODIFIED:20250417T193952Z
UID:2436-1745686800-1745686800@www.chrisostler.co.uk
SUMMARY:Rattler Fest\, Penhallow
DESCRIPTION:Chris Ostler\, Solo on the Woodlands Stage\, Ticketed Festival
URL:https://www.chrisostler.co.uk/event/rattler-fest-penhallow/
LOCATION:Rattler Fest\, Penhallow\, Penhallow\, Cornwall\, TR4 9LT
END:VEVENT
BEGIN:VEVENT
DTSTART;TZID=Europe/London:20250425T200000
DTEND;TZID=Europe/London:20250425T200000
DTSTAMP:20260420T031340
CREATED:20250227T145027Z
LAST-MODIFIED:20250326T153340Z
UID:2106-1745611200-1745611200@www.chrisostler.co.uk
SUMMARY:The Ship Inn\, Mousehole
DESCRIPTION:Chris Ostler\, Solo
URL:https://www.chrisostler.co.uk/event/the-ship-inn-mousehole-2/
LOCATION:The Ship Inn\, Mousehole\, South Cliff\, Mousehole\, Cornwall\, TR19 6QX
END:VEVENT
BEGIN:VEVENT
DTSTART;TZID=Europe/London:20250420T210000
DTEND;TZID=Europe/London:20250420T210000
DTSTAMP:20260420T031340
CREATED:20250227T144902Z
LAST-MODIFIED:20250326T153419Z
UID:2103-1745182800-1745182800@www.chrisostler.co.uk
SUMMARY:Newperran Holiday Park\, Hendra Croft
DESCRIPTION:Chris Ostler\, Solo
URL:https://www.chrisostler.co.uk/event/newperran-holiday-park-hendra-croft/
LOCATION:Newperran Holiday Park\, Hendra Croft\, Newperran\, Hendra Croft\, Newquay\, Cornwall\, TR8 5QJ
END:VEVENT
BEGIN:VEVENT
DTSTART;TZID=Europe/London:20250420T140000
DTEND;TZID=Europe/London:20250420T140000
DTSTAMP:20260420T031340
CREATED:20250409T132150Z
LAST-MODIFIED:20250409T132150Z
UID:2464-1745157600-1745157600@www.chrisostler.co.uk
SUMMARY:Beverley Park\, Paignton
DESCRIPTION:Chris Ostler\, Solo
URL:https://www.chrisostler.co.uk/event/beverley-park-paignton/
LOCATION:Beverley Park\, Paignton\, Goodrington Road\, Paignton\, TQ4 7JE
END:VEVENT
BEGIN:VEVENT
DTSTART;TZID=Europe/London:20250419T210000
DTEND;TZID=Europe/London:20250419T210000
DTSTAMP:20260420T031340
CREATED:20250409T130952Z
LAST-MODIFIED:20250409T132301Z
UID:2461-1745096400-1745096400@www.chrisostler.co.uk
SUMMARY:The Cork & Bottle\, Barnstaple
DESCRIPTION:Chris Ostler\, Solo
URL:https://www.chrisostler.co.uk/event/the-cork-bottle-barnstaple/
LOCATION:The Cork & Bottle\, Barnstaple\, 51 High Street\, Barnstaple\, EX31 1JB
END:VEVENT
BEGIN:VEVENT
DTSTART;TZID=Europe/London:20250418T200000
DTEND;TZID=Europe/London:20250418T200000
DTSTAMP:20260420T031340
CREATED:20250312T111149Z
LAST-MODIFIED:20250326T153448Z
UID:2268-1745006400-1745006400@www.chrisostler.co.uk
SUMMARY:The Brass\, Teignmouth
DESCRIPTION:Chris Ostler\, Solo
URL:https://www.chrisostler.co.uk/event/the-brass-teignmouth/
LOCATION:The Brass\, Teignmouth\, Hollands Road\, Teignmouth\, TQ14 8SR
END:VEVENT
BEGIN:VEVENT
DTSTART;TZID=Europe/London:20250416T200000
DTEND;TZID=Europe/London:20250416T200000
DTSTAMP:20260420T031340
CREATED:20250312T110809Z
LAST-MODIFIED:20250326T153512Z
UID:2265-1744833600-1744833600@www.chrisostler.co.uk
SUMMARY:Hazelwood Holiday Park\, Dawlish Warren
DESCRIPTION:Chris Ostler\, Solo
URL:https://www.chrisostler.co.uk/event/hazelwood-holiday-park-dawlish-warren/
LOCATION:Hazelwood Holiday Park\, Dawlish Warren\, Warren Road\, Dawlish Warren\, EX7 0PF
END:VEVENT
BEGIN:VEVENT
DTSTART;TZID=Europe/London:20250414T200000
DTEND;TZID=Europe/London:20250414T200000
DTSTAMP:20260420T031340
CREATED:20250312T110200Z
LAST-MODIFIED:20250326T153548Z
UID:2262-1744660800-1744660800@www.chrisostler.co.uk
SUMMARY:The Old Warehouse\, Kingsbridge
DESCRIPTION:Chris Ostler\, Solo
URL:https://www.chrisostler.co.uk/event/the-old-warehouse-kingsbridge/
LOCATION:The Old Warehouse\, Kingsbridge\, 9-11 Prince of Wales Road\, Kingsbridge\, TQ7 1DY
END:VEVENT
END:VCALENDAR