BEGIN:VCALENDAR
VERSION:2.0
PRODID:-//Chris Ostler - ECPv6.15.20//NONSGML v1.0//EN
CALSCALE:GREGORIAN
METHOD:PUBLISH
X-ORIGINAL-URL:https://www.chrisostler.co.uk
X-WR-CALDESC:Events for Chris Ostler
REFRESH-INTERVAL;VALUE=DURATION:PT1H
X-Robots-Tag:noindex
X-PUBLISHED-TTL:PT1H
BEGIN:VTIMEZONE
TZID:Europe/London
BEGIN:DAYLIGHT
TZOFFSETFROM:+0000
TZOFFSETTO:+0100
TZNAME:BST
DTSTART:20250330T010000
END:DAYLIGHT
BEGIN:STANDARD
TZOFFSETFROM:+0100
TZOFFSETTO:+0000
TZNAME:GMT
DTSTART:20251026T010000
END:STANDARD
BEGIN:DAYLIGHT
TZOFFSETFROM:+0000
TZOFFSETTO:+0100
TZNAME:BST
DTSTART:20260329T010000
END:DAYLIGHT
BEGIN:STANDARD
TZOFFSETFROM:+0100
TZOFFSETTO:+0000
TZNAME:GMT
DTSTART:20261025T010000
END:STANDARD
BEGIN:DAYLIGHT
TZOFFSETFROM:+0000
TZOFFSETTO:+0100
TZNAME:BST
DTSTART:20270328T010000
END:DAYLIGHT
BEGIN:STANDARD
TZOFFSETFROM:+0100
TZOFFSETTO:+0000
TZNAME:GMT
DTSTART:20271031T010000
END:STANDARD
END:VTIMEZONE
BEGIN:VEVENT
DTSTART;TZID=Europe/London:20260314T150000
DTEND;TZID=Europe/London:20260314T150000
DTSTAMP:20260419T212935
CREATED:20260304T134732Z
LAST-MODIFIED:20260304T134922Z
UID:2931-1773500400-1773500400@www.chrisostler.co.uk
SUMMARY:Steamer Fest\, Cullompton
DESCRIPTION:Chris Ostler\, Solo\nTickets required at various prices for weekend or days – see Steamer Fest website.
URL:https://www.chrisostler.co.uk/event/steamer-fest-cullompton/
LOCATION:Steamer Fest\, Cullompton\, The Steamer Coffee House and Kitchen\, Cullompton\, Devon\, EX15 1QP
END:VEVENT
BEGIN:VEVENT
DTSTART;TZID=Europe/London:20260314T211500
DTEND;TZID=Europe/London:20260314T211500
DTSTAMP:20260419T212935
CREATED:20260311T113058Z
LAST-MODIFIED:20260311T113058Z
UID:2972-1773522900-1773522900@www.chrisostler.co.uk
SUMMARY:Holywell Bay Holiday Park\, Newquay
DESCRIPTION:Chris Ostler\, Solo
URL:https://www.chrisostler.co.uk/event/holywell-bay-holiday-park-newquay/
LOCATION:Holywell Bay Holiday Park\, Newquay\, Holywell Road\, Newquay\, TR8 5PR
END:VEVENT
BEGIN:VEVENT
DTSTART;TZID=Europe/London:20260315T160000
DTEND;TZID=Europe/London:20260315T160000
DTSTAMP:20260419T212935
CREATED:20251230T135007Z
LAST-MODIFIED:20251230T135007Z
UID:2829-1773590400-1773590400@www.chrisostler.co.uk
SUMMARY:Ebberly Arms\, Barnstaple
DESCRIPTION:Chris Ostler\, Solo
URL:https://www.chrisostler.co.uk/event/ebberly-arms-barnstaple/
LOCATION:The Ebberley Arms\, Barnstaple\, 40 Bear Street\, Barnstaple\, Devon\, EX32 7BZ
END:VEVENT
BEGIN:VEVENT
DTSTART;TZID=Europe/London:20260316T210000
DTEND;TZID=Europe/London:20260316T210000
DTSTAMP:20260419T212935
CREATED:20251230T140044Z
LAST-MODIFIED:20251230T140044Z
UID:2834-1773694800-1773694800@www.chrisostler.co.uk
SUMMARY:Unity Beach\, Brean
DESCRIPTION:Chris Ostler\, Solo
URL:https://www.chrisostler.co.uk/event/unity-beach-brean-2/
LOCATION:Unity Beach\, Brean\, Coast Road\, Brean Sands\, Somerset\, TA8 2RB
END:VEVENT
BEGIN:VEVENT
DTSTART;TZID=Europe/London:20260320T193000
DTEND;TZID=Europe/London:20260320T193000
DTSTAMP:20260419T212935
CREATED:20260304T131938Z
LAST-MODIFIED:20260304T132556Z
UID:2919-1774035000-1774035000@www.chrisostler.co.uk
SUMMARY:Oriels\, Exeter
DESCRIPTION:Chris Ostler\, Solo
URL:https://www.chrisostler.co.uk/event/oriels-exeter-5-2/
LOCATION:Oriels Exeter\, 223-226 High Street\, Exeter\, Devon\, EX4 3RH
END:VEVENT
BEGIN:VEVENT
DTSTART;TZID=Europe/London:20260321T140000
DTEND;TZID=Europe/London:20260321T140000
DTSTAMP:20260419T212935
CREATED:20260304T131938Z
LAST-MODIFIED:20260304T135118Z
UID:2921-1774101600-1774101600@www.chrisostler.co.uk
SUMMARY:Oriels\, Exeter
DESCRIPTION:Chris Ostler\, Solo
URL:https://www.chrisostler.co.uk/event/oriels-exeter-5-2-2/
LOCATION:Oriels Exeter\, 223-226 High Street\, Exeter\, Devon\, EX4 3RH
END:VEVENT
BEGIN:VEVENT
DTSTART;TZID=Europe/London:20260321T203000
DTEND;TZID=Europe/London:20260321T203000
DTSTAMP:20260419T212935
CREATED:20250312T123635Z
LAST-MODIFIED:20260304T140007Z
UID:2939-1774125000-1774125000@www.chrisostler.co.uk
SUMMARY:Hengar Manor Holiday Park\, Bodmin
DESCRIPTION:Chris Ostler\, Solo
URL:https://www.chrisostler.co.uk/event/hengar-manor-holiday-park-bodmin-2-2/
LOCATION:Hengar Manor Holiday Park\, Bodmin\, St Tudy\, Bodmin\, PL30 3PL
END:VEVENT
BEGIN:VEVENT
DTSTART;TZID=Europe/London:20260325T200000
DTEND;TZID=Europe/London:20260325T200000
DTSTAMP:20260419T212935
CREATED:20260122T140525Z
LAST-MODIFIED:20260122T140525Z
UID:2871-1774468800-1774468800@www.chrisostler.co.uk
SUMMARY:Hoburne Cotswold Holiday Park\, South Cerney
DESCRIPTION:Chris Ostler\, Solo
URL:https://www.chrisostler.co.uk/event/hoburne-cotswold-holiday-park-south-cerney/
LOCATION:Hoburne Cotswold Holiday Park\, South Cerney\, Broadway Lane\, South Cerney\, Glouscester\, GL7 5UQ
END:VEVENT
BEGIN:VEVENT
DTSTART;TZID=Europe/London:20260327T193000
DTEND;TZID=Europe/London:20260327T193000
DTSTAMP:20260419T212935
CREATED:20260304T131938Z
LAST-MODIFIED:20260304T132651Z
UID:2923-1774639800-1774639800@www.chrisostler.co.uk
SUMMARY:Oriels\, Exeter
DESCRIPTION:Chris Ostler\, Solo
URL:https://www.chrisostler.co.uk/event/oriels-exeter-5-2-2-2/
LOCATION:Oriels Exeter\, 223-226 High Street\, Exeter\, Devon\, EX4 3RH
END:VEVENT
BEGIN:VEVENT
DTSTART;TZID=Europe/London:20260328T161500
DTEND;TZID=Europe/London:20260328T161500
DTSTAMP:20260419T212935
CREATED:20260122T140833Z
LAST-MODIFIED:20260122T140833Z
UID:2874-1774714500-1774714500@www.chrisostler.co.uk
SUMMARY:Topsham Rugby Football Club\, Topsham
DESCRIPTION:Chris Ostler\, Solo
URL:https://www.chrisostler.co.uk/event/topsham-rugby-football-club-topsham/
LOCATION:Topsham Rugby Club\, Topsham\, Exeter Road\, Topsham\, Devon\, EX3 0LY
END:VEVENT
BEGIN:VEVENT
DTSTART;TZID=Europe/London:20260328T203000
DTEND;TZID=Europe/London:20260328T203000
DTSTAMP:20260419T212935
CREATED:20260304T141108Z
LAST-MODIFIED:20260304T141108Z
UID:2943-1774729800-1774729800@www.chrisostler.co.uk
SUMMARY:The Kings Arms\, The Quay\, Bideford
DESCRIPTION:Chris Ostler\, Solo
URL:https://www.chrisostler.co.uk/event/the-kings-arms-the-quay-bideford/
LOCATION:The Kings Arms\, The Quay\, Bideford\, 7 The Quay\, Bideford\, EX39 2HW
END:VEVENT
BEGIN:VEVENT
DTSTART;TZID=Europe/London:20260329T200000
DTEND;TZID=Europe/London:20260329T200000
DTSTAMP:20260419T212935
CREATED:20260324T125607Z
LAST-MODIFIED:20260324T125607Z
UID:2982-1774814400-1774814400@www.chrisostler.co.uk
SUMMARY:St Ives Bay\, Hayle
DESCRIPTION:Chris Ostler\, Solo
URL:https://www.chrisostler.co.uk/event/st-ives-bay-hayle/
LOCATION:St Ives Bay\, Hayle\, 73 Loggans Rd\, Upton Towans\, Hayle\, TR27 5BH
END:VEVENT
BEGIN:VEVENT
DTSTART;TZID=Europe/London:20260403T150000
DTEND;TZID=Europe/London:20260403T150000
DTSTAMP:20260419T212935
CREATED:20260211T174732Z
LAST-MODIFIED:20260211T174732Z
UID:2903-1775228400-1775228400@www.chrisostler.co.uk
SUMMARY:The Bird In Hand\, North Curry
DESCRIPTION:Chris Ostler\, Solo
URL:https://www.chrisostler.co.uk/event/the-bird-in-hand-north-curry/
LOCATION:The Bird In Hand\, North Curry\, Queen Square\, North Curry\, TA3 6LT
END:VEVENT
BEGIN:VEVENT
DTSTART;TZID=Europe/London:20260403T220000
DTEND;TZID=Europe/London:20260403T220000
DTSTAMP:20260419T212935
CREATED:20260211T175339Z
LAST-MODIFIED:20260211T175339Z
UID:2906-1775253600-1775253600@www.chrisostler.co.uk
SUMMARY:The Racehorse Inn\, Taunton
DESCRIPTION:Chris Ostler\, Solo
URL:https://www.chrisostler.co.uk/event/the-racehorse-inn-taunton/
LOCATION:The Racehorse Inn\, Taunton\, 157 E Reach\, Taunton\, TA1 3HT
END:VEVENT
BEGIN:VEVENT
DTSTART;TZID=Europe/London:20260404T120000
DTEND;TZID=Europe/London:20260404T120000
DTSTAMP:20260419T212935
CREATED:20260311T113919Z
LAST-MODIFIED:20260311T113919Z
UID:2975-1775304000-1775304000@www.chrisostler.co.uk
SUMMARY:Blue Anchor Holiday Park\, Minehead
DESCRIPTION:Chris Ostler\, Solo
URL:https://www.chrisostler.co.uk/event/blue-anchor-holiday-park-minehead/
LOCATION:Blue Anchor Holiday Park\, Minehead\, Blue Anchor Bay\, Minehead\, TA24 6JT
END:VEVENT
BEGIN:VEVENT
DTSTART;TZID=Europe/London:20260404T200000
DTEND;TZID=Europe/London:20260404T200000
DTSTAMP:20260419T212935
CREATED:20260122T141103Z
LAST-MODIFIED:20260211T175545Z
UID:2876-1775332800-1775332800@www.chrisostler.co.uk
SUMMARY:The White Lion\, Braunton
DESCRIPTION:Chris Ostler\, Solo
URL:https://www.chrisostler.co.uk/event/the-white-lion-braunton-8/
LOCATION:The White Lion\, Braunton\, North Street\, Braunton\, Devon
END:VEVENT
BEGIN:VEVENT
DTSTART;TZID=Europe/London:20260405T210000
DTEND;TZID=Europe/London:20260405T210000
DTSTAMP:20260419T212935
CREATED:20260311T114532Z
LAST-MODIFIED:20260311T114532Z
UID:2978-1775422800-1775422800@www.chrisostler.co.uk
SUMMARY:Sea Acres Holiday Park\, Helston
DESCRIPTION:Chris Ostler\, Solo
URL:https://www.chrisostler.co.uk/event/sea-acres-holiday-park-helston/
LOCATION:Sea Acres Holiday Park\, Helston\, Kennack Sands\, Kuggar\, Helston\, TR12 7LT
END:VEVENT
BEGIN:VEVENT
DTSTART;TZID=Europe/London:20260410T200000
DTEND;TZID=Europe/London:20260410T200000
DTSTAMP:20260419T212935
CREATED:20260116T124914Z
LAST-MODIFIED:20260304T141507Z
UID:2946-1775851200-1775851200@www.chrisostler.co.uk
SUMMARY:The Ship Inn\, Mousehole
DESCRIPTION:Chris Ostler\, Solo
URL:https://www.chrisostler.co.uk/event/the-ship-inn-mousehole-5-2/
LOCATION:The Ship Inn\, Mousehole\, South Cliff\, Mousehole\, Cornwall\, TR19 6QX
END:VEVENT
BEGIN:VEVENT
DTSTART;TZID=Europe/London:20260411T140000
DTEND;TZID=Europe/London:20260411T140000
DTSTAMP:20260419T212935
CREATED:20260410T162942Z
LAST-MODIFIED:20260410T162942Z
UID:3040-1775916000-1775916000@www.chrisostler.co.uk
SUMMARY:Doniford Bay Holiday Park\, Watchet
DESCRIPTION:Chris Ostler\, Solo
URL:https://www.chrisostler.co.uk/event/doniford-bay-holiday-park-watchet/
LOCATION:Doniford Bay Holiday Park\, Watchet\, TA32 0TJ
END:VEVENT
BEGIN:VEVENT
DTSTART;TZID=Europe/London:20260411T200000
DTEND;TZID=Europe/London:20260411T200000
DTSTAMP:20260419T212935
CREATED:20260122T141318Z
LAST-MODIFIED:20260122T141318Z
UID:2878-1775937600-1775937600@www.chrisostler.co.uk
SUMMARY:Waterside Holiday Park\, Paignton
DESCRIPTION:Chris Ostler\, Solo
URL:https://www.chrisostler.co.uk/event/waterside-holiday-park-paignton-2/
LOCATION:Waterside Holiday Park\, Paignton\, Three Beaches\, Dartmouth Road\, Paignton\, Devon\, TQ4 6NS
END:VEVENT
BEGIN:VEVENT
DTSTART;TZID=Europe/London:20260417T200000
DTEND;TZID=Europe/London:20260417T200000
DTSTAMP:20260419T212935
CREATED:20251119T133610Z
LAST-MODIFIED:20260304T141951Z
UID:2950-1776456000-1776456000@www.chrisostler.co.uk
SUMMARY:Ludo Live Lounge\, Exeter
DESCRIPTION:Chris Ostler\, Solo
URL:https://www.chrisostler.co.uk/event/ludo-live-lounge-exeter-2/
LOCATION:Ludo Live Lounge\, Exeter\, Unit 19\, 19 Queen Street\, Exeter\, EX4 3FB
END:VEVENT
BEGIN:VEVENT
DTSTART;TZID=Europe/London:20260418T110000
DTEND;TZID=Europe/London:20260418T110000
DTSTAMP:20260419T212935
CREATED:20260122T142028Z
LAST-MODIFIED:20260122T142028Z
UID:2880-1776510000-1776510000@www.chrisostler.co.uk
SUMMARY:Tiverton Pannier Market\, Tiverton
DESCRIPTION:Spring Garden Festival\, Chris Ostler\, Solo
URL:https://www.chrisostler.co.uk/event/tiverton-pannier-market-tiverton/
LOCATION:Tiverton Pannier Market\, Tiverton\, Fore Street\, Tiverton\, Devon\, EX16 6NH
END:VEVENT
BEGIN:VEVENT
DTSTART;TZID=Europe/London:20260418T164500
DTEND;TZID=Europe/London:20260418T164500
DTSTAMP:20260419T212935
CREATED:20251126T114134Z
LAST-MODIFIED:20260211T180037Z
UID:2909-1776530700-1776530700@www.chrisostler.co.uk
SUMMARY:Exeter Chiefs\, Estuary Suite\, Sandy Park - Match Tickets Required
DESCRIPTION:Chris Ostler\, Solo
URL:https://www.chrisostler.co.uk/event/exeter-chiefs-estuary-suite-sandy-park-match-tickets-required-2/
LOCATION:Exeter Chiefs\, Sandy Park\, Sandy Park Stadium\, Exeter\, Devon\, EX2 7NN
END:VEVENT
BEGIN:VEVENT
DTSTART;TZID=Europe/London:20260424T153000
DTEND;TZID=Europe/London:20260424T153000
DTSTAMP:20260419T212935
CREATED:20260211T180650Z
LAST-MODIFIED:20260304T131444Z
UID:2911-1777044600-1777044600@www.chrisostler.co.uk
SUMMARY:Rattler Fest\, Truro
DESCRIPTION:Chris Ostler\, with BAND
URL:https://www.chrisostler.co.uk/event/rattler-fest-truro/
LOCATION:Rattler Fest\, Penhallow\, Penhallow\, Cornwall\, TR4 9LT
END:VEVENT
BEGIN:VEVENT
DTSTART;TZID=Europe/London:20260424T193000
DTEND;TZID=Europe/London:20260424T193000
DTSTAMP:20260419T212935
CREATED:20260304T131938Z
LAST-MODIFIED:20260304T132739Z
UID:2925-1777059000-1777059000@www.chrisostler.co.uk
SUMMARY:Oriels\, Exeter
DESCRIPTION:Chris Ostler\, Solo
URL:https://www.chrisostler.co.uk/event/oriels-exeter-5-2-2-2-2/
LOCATION:Oriels Exeter\, 223-226 High Street\, Exeter\, Devon\, EX4 3RH
END:VEVENT
BEGIN:VEVENT
DTSTART;TZID=Europe/London:20260425T203000
DTEND;TZID=Europe/London:20260425T203000
DTSTAMP:20260419T212935
CREATED:20260122T142518Z
LAST-MODIFIED:20260122T142518Z
UID:2883-1777149000-1777149000@www.chrisostler.co.uk
SUMMARY:The New Inn\, Fremington
DESCRIPTION:Chris Ostler\, Solo
URL:https://www.chrisostler.co.uk/event/the-new-inn-fremington/
LOCATION:The New Inn\, Fremington\, Old School Lane\, Fremington\, Devon\, EX32 2NT
END:VEVENT
BEGIN:VEVENT
DTSTART;TZID=Europe/London:20260501T203000
DTEND;TZID=Europe/London:20260501T203000
DTSTAMP:20260419T212935
CREATED:20251126T114732Z
LAST-MODIFIED:20260304T142430Z
UID:2952-1777667400-1777667400@www.chrisostler.co.uk
SUMMARY:Blues Bar\, Weston-super-Mare
DESCRIPTION:Chris Ostler\, Solo
URL:https://www.chrisostler.co.uk/event/blues-bar-weston-super-mare-2/
LOCATION:Blues Bar\, Weston-super-Mare\, 24 Meadow Street\, Weston-super-Mare\, BS23 1QQ
END:VEVENT
BEGIN:VEVENT
DTSTART;TZID=Europe/London:20260503T123000
DTEND;TZID=Europe/London:20260503T123000
DTSTAMP:20260419T212935
CREATED:20260325T114823Z
LAST-MODIFIED:20260325T114823Z
UID:3016-1777811400-1777811400@www.chrisostler.co.uk
SUMMARY:Lineout Live Festival\, Topsham RFC
DESCRIPTION:Chris Ostler\, Solo \n \nAdvanced tickets are just £18 for adults. Under 16s are free of charge\, with a paying adult\, but tickets must booked in advance. \nUnfortunately\, dogs are not allowed at this event\, due to it being on the pitch.
URL:https://www.chrisostler.co.uk/event/lineout-live-festival-topsham-rfc/
LOCATION:Topsham Rugby Club\, Topsham\, Exeter Road\, Topsham\, Devon\, EX3 0LY
END:VEVENT
BEGIN:VEVENT
DTSTART;TZID=Europe/London:20260508T200000
DTEND;TZID=Europe/London:20260508T200000
DTSTAMP:20260419T212935
CREATED:20260116T124914Z
LAST-MODIFIED:20260304T141646Z
UID:2948-1778270400-1778270400@www.chrisostler.co.uk
SUMMARY:The Ship Inn\, Mousehole
DESCRIPTION:Chris Ostler\, Solo
URL:https://www.chrisostler.co.uk/event/the-ship-inn-mousehole-5-2-2/
LOCATION:The Ship Inn\, Mousehole\, South Cliff\, Mousehole\, Cornwall\, TR19 6QX
END:VEVENT
BEGIN:VEVENT
DTSTART;TZID=Europe/London:20260509T190000
DTEND;TZID=Europe/London:20260509T190000
DTSTAMP:20260419T212935
CREATED:20260304T143331Z
LAST-MODIFIED:20260304T143331Z
UID:2956-1778353200-1778353200@www.chrisostler.co.uk
SUMMARY:Stowford Farm Meadows\, Combe Martin
DESCRIPTION:Chris Ostler\, Solo
URL:https://www.chrisostler.co.uk/event/stowford-farm-meadows-combe-martin/
LOCATION:Stowford Farm Meadows\, Combe Martin\, Combe Martin\, EX34 0PW
END:VEVENT
END:VCALENDAR