BEGIN:VCALENDAR
VERSION:2.0
PRODID:-//Chris Ostler - ECPv6.15.20//NONSGML v1.0//EN
CALSCALE:GREGORIAN
METHOD:PUBLISH
X-WR-CALNAME:Chris Ostler
X-ORIGINAL-URL:https://www.chrisostler.co.uk
X-WR-CALDESC:Events for Chris Ostler
REFRESH-INTERVAL;VALUE=DURATION:PT1H
X-Robots-Tag:noindex
X-PUBLISHED-TTL:PT1H
BEGIN:VTIMEZONE
TZID:Europe/London
BEGIN:DAYLIGHT
TZOFFSETFROM:+0000
TZOFFSETTO:+0100
TZNAME:BST
DTSTART:20240331T010000
END:DAYLIGHT
BEGIN:STANDARD
TZOFFSETFROM:+0100
TZOFFSETTO:+0000
TZNAME:GMT
DTSTART:20241027T010000
END:STANDARD
BEGIN:DAYLIGHT
TZOFFSETFROM:+0000
TZOFFSETTO:+0100
TZNAME:BST
DTSTART:20250330T010000
END:DAYLIGHT
BEGIN:STANDARD
TZOFFSETFROM:+0100
TZOFFSETTO:+0000
TZNAME:GMT
DTSTART:20251026T010000
END:STANDARD
BEGIN:DAYLIGHT
TZOFFSETFROM:+0000
TZOFFSETTO:+0100
TZNAME:BST
DTSTART:20260329T010000
END:DAYLIGHT
BEGIN:STANDARD
TZOFFSETFROM:+0100
TZOFFSETTO:+0000
TZNAME:GMT
DTSTART:20261025T010000
END:STANDARD
BEGIN:DAYLIGHT
TZOFFSETFROM:+0000
TZOFFSETTO:+0100
TZNAME:BST
DTSTART:20270328T010000
END:DAYLIGHT
BEGIN:STANDARD
TZOFFSETFROM:+0100
TZOFFSETTO:+0000
TZNAME:GMT
DTSTART:20271031T010000
END:STANDARD
END:VTIMEZONE
BEGIN:VEVENT
DTSTART;TZID=Europe/London:20251219T200000
DTEND;TZID=Europe/London:20251219T200000
DTSTAMP:20260420T030907
CREATED:20251022T133544Z
LAST-MODIFIED:20251022T133935Z
UID:2688-1766174400-1766174400@www.chrisostler.co.uk
SUMMARY:The Cranberry Farm\, Cranbrook
DESCRIPTION:Chris Ostler\, Solo
URL:https://www.chrisostler.co.uk/event/the-cranberry-farm-cranbrook/
LOCATION:The Cranberry Farm\, Cranbrook\, Badger Way\, Cranbrook\, EX5 7FN
END:VEVENT
BEGIN:VEVENT
DTSTART;TZID=Europe/London:20251220T213000
DTEND;TZID=Europe/London:20251220T213000
DTSTAMP:20260420T030907
CREATED:20251022T134245Z
LAST-MODIFIED:20251022T134245Z
UID:2693-1766266200-1766266200@www.chrisostler.co.uk
SUMMARY:The Castle Inn\, St Ives
DESCRIPTION:Chris Ostler\, Solo
URL:https://www.chrisostler.co.uk/event/the-castle-inn-st-ives-2/
LOCATION:The Castle Inn\, St Ives\, St Ives\, Cornwall\, TR26 1AB
END:VEVENT
BEGIN:VEVENT
DTSTART;TZID=Europe/London:20251224T210000
DTEND;TZID=Europe/London:20251224T210000
DTSTAMP:20260420T030907
CREATED:20251105T133011Z
LAST-MODIFIED:20251201T190034Z
UID:2704-1766610000-1766610000@www.chrisostler.co.uk
SUMMARY:Sorry\, CANCELLED by venue - White Lion\, Braunton
DESCRIPTION:Chris Ostler\, Solo
URL:https://www.chrisostler.co.uk/event/the-white-lion-braunton-6/
LOCATION:The White Lion\, Braunton\, North Street\, Braunton\, Devon
END:VEVENT
BEGIN:VEVENT
DTSTART;TZID=Europe/London:20251227T203000
DTEND;TZID=Europe/London:20251227T203000
DTSTAMP:20260420T030907
CREATED:20251022T134806Z
LAST-MODIFIED:20251022T134806Z
UID:2695-1766867400-1766867400@www.chrisostler.co.uk
SUMMARY:The Portreath Arms\, Portreath
DESCRIPTION:Chris Ostler\, Solo
URL:https://www.chrisostler.co.uk/event/the-portreath-arms-portreath-2/
LOCATION:The Portreath Arms\, Portreath\, The Square\, Portreath\, TR16 4LA
END:VEVENT
BEGIN:VEVENT
DTSTART;TZID=Europe/London:20251231T200000
DTEND;TZID=Europe/London:20251231T200000
DTSTAMP:20260420T030907
CREATED:20251230T192316Z
LAST-MODIFIED:20251230T192316Z
UID:2840-1767211200-1767211200@www.chrisostler.co.uk
SUMMARY:Milk Thistle\, Bristol
DESCRIPTION:Chris Ostler\, Solo – There may be a cost to enter the venue. Please check.
URL:https://www.chrisostler.co.uk/event/milk-thistle-bristol/
LOCATION:Milk Thistle\, Bristol\, Quay Head House\, Bristol\, BS1 1EB
END:VEVENT
BEGIN:VEVENT
DTSTART;TZID=Europe/London:20260101T130000
DTEND;TZID=Europe/London:20260101T130000
DTSTAMP:20260420T030907
CREATED:20251230T133822Z
LAST-MODIFIED:20251230T133822Z
UID:2819-1767272400-1767272400@www.chrisostler.co.uk
SUMMARY:Hoburne Devon Bay Holiday Park\, Paignton
DESCRIPTION:Chris Ostler\, Solo
URL:https://www.chrisostler.co.uk/event/hoburne-devon-bay-holiday-park-paignton/
LOCATION:Hoburne Devon Bay Holiday Park\, Paignton\, Grange Court\, Grange Road\, Goodrington\, Paington\, Devon\, TQ4 7JP
END:VEVENT
BEGIN:VEVENT
DTSTART;TZID=Europe/London:20260109T193000
DTEND;TZID=Europe/London:20260109T193000
DTSTAMP:20260420T030907
CREATED:20260107T104925Z
LAST-MODIFIED:20260107T104925Z
UID:2844-1767987000-1767987000@www.chrisostler.co.uk
SUMMARY:Oriels Exeter
DESCRIPTION:Chris Ostler\, Solo
URL:https://www.chrisostler.co.uk/event/oriels-exeter/
LOCATION:Oriels Exeter\, 223-226 High Street\, Exeter\, Devon\, EX4 3RH
END:VEVENT
BEGIN:VEVENT
DTSTART;TZID=Europe/London:20260110T213000
DTEND;TZID=Europe/London:20260110T213000
DTSTAMP:20260420T030907
CREATED:20251105T133813Z
LAST-MODIFIED:20251230T135400Z
UID:2706-1768080600-1768080600@www.chrisostler.co.uk
SUMMARY:The Spinning Wheel Inn\, Paignton - WITH BAND
DESCRIPTION:Chris Ostler\, with BAND
URL:https://www.chrisostler.co.uk/event/the-spinning-wheel-inn-paignton-with-band/
LOCATION:The Spinning Wheel Inn\, Paignton\, 19 Esplanade Road\, Paignton\, Devon\, TQ4 6BE
END:VEVENT
BEGIN:VEVENT
DTSTART;TZID=Europe/London:20260111T170000
DTEND;TZID=Europe/London:20260111T170000
DTSTAMP:20260420T030907
CREATED:20260107T155112Z
LAST-MODIFIED:20260107T155112Z
UID:2847-1768150800-1768150800@www.chrisostler.co.uk
SUMMARY:The Eliot Arms\, Saltash
DESCRIPTION:Chris Ostler\, Solo
URL:https://www.chrisostler.co.uk/event/the-eliot-arms-saltash/
LOCATION:The Eliot Arms\, Saltash\, Fore Street\, St Germans\, Saltash\, PL12 5NR
END:VEVENT
BEGIN:VEVENT
DTSTART;TZID=Europe/London:20260116T200000
DTEND;TZID=Europe/London:20260116T200000
DTSTAMP:20260420T030907
CREATED:20260116T124914Z
LAST-MODIFIED:20260116T124914Z
UID:2862-1768593600-1768593600@www.chrisostler.co.uk
SUMMARY:The Ship Inn. Mousehole
DESCRIPTION:Chris Ostler\, Solo
URL:https://www.chrisostler.co.uk/event/the-ship-inn-mousehole-5/
LOCATION:The Ship Inn\, Mousehole\, South Cliff\, Mousehole\, Cornwall\, TR19 6QX
END:VEVENT
BEGIN:VEVENT
DTSTART;TZID=Europe/London:20260117T200000
DTEND;TZID=Europe/London:20260117T200000
DTSTAMP:20260420T030907
CREATED:20260114T164444Z
LAST-MODIFIED:20260114T164444Z
UID:2855-1768680000-1768680000@www.chrisostler.co.uk
SUMMARY:Dawlish Sands Holiday Park
DESCRIPTION:Chris Ostler\, Solo
URL:https://www.chrisostler.co.uk/event/dawlish-sands-holiday-park/
LOCATION:Dawlish Sands Holiday Park\, Dawlish Warren\, Devon\, EX7 0PG
END:VEVENT
BEGIN:VEVENT
DTSTART;TZID=Europe/London:20260118T144500
DTEND;TZID=Europe/London:20260118T144500
DTSTAMP:20260420T030907
CREATED:20251126T114134Z
LAST-MODIFIED:20251126T114205Z
UID:2793-1768747500-1768747500@www.chrisostler.co.uk
SUMMARY:Exeter Chiefs\, Estuary Suite\, Sandy Park - Match Tickets Required
DESCRIPTION:Chris Ostler\, Solo
URL:https://www.chrisostler.co.uk/event/exeter-chiefs-estuary-suite-sandy-park-match-tickets-required/
LOCATION:Exeter Chiefs\, Sandy Park\, Sandy Park Stadium\, Exeter\, Devon\, EX2 7NN
END:VEVENT
BEGIN:VEVENT
DTSTART;TZID=Europe/London:20260123T200000
DTEND;TZID=Europe/London:20260123T200000
DTSTAMP:20260420T030907
CREATED:20260122T134303Z
LAST-MODIFIED:20260122T134303Z
UID:2864-1769198400-1769198400@www.chrisostler.co.uk
SUMMARY:Oriels\, Exeter
DESCRIPTION:Chris Ostler\, Solo
URL:https://www.chrisostler.co.uk/event/oriels-exeter-2/
LOCATION:Oriels Exeter\, 223-226 High Street\, Exeter\, Devon\, EX4 3RH
END:VEVENT
BEGIN:VEVENT
DTSTART;TZID=Europe/London:20260130T200000
DTEND;TZID=Europe/London:20260130T200000
DTSTAMP:20260420T030907
CREATED:20260129T232406Z
LAST-MODIFIED:20260129T232406Z
UID:2887-1769803200-1769803200@www.chrisostler.co.uk
SUMMARY:Oriels\, Exeter
DESCRIPTION:Chris Ostler\, Solo
URL:https://www.chrisostler.co.uk/event/oriels-exeter-3/
LOCATION:Oriels Exeter\, 223-226 High Street\, Exeter\, Devon\, EX4 3RH
END:VEVENT
BEGIN:VEVENT
DTSTART;TZID=Europe/London:20260206T200000
DTEND;TZID=Europe/London:20260206T200000
DTSTAMP:20260420T030907
CREATED:20260204T101159Z
LAST-MODIFIED:20260204T101159Z
UID:2889-1770408000-1770408000@www.chrisostler.co.uk
SUMMARY:Oriels\, Exeter
DESCRIPTION:Chris Ostler\, Solo
URL:https://www.chrisostler.co.uk/event/oriels-exeter-4/
LOCATION:Oriels Exeter\, 223-226 High Street\, Exeter\, Devon\, EX4 3RH
END:VEVENT
BEGIN:VEVENT
DTSTART;TZID=Europe/London:20260207T203000
DTEND;TZID=Europe/London:20260207T203000
DTSTAMP:20260420T030907
CREATED:20260107T155624Z
LAST-MODIFIED:20260107T155624Z
UID:2850-1770496200-1770496200@www.chrisostler.co.uk
SUMMARY:The White Lion\, Braunton
DESCRIPTION:Chris Ostler\, Solo
URL:https://www.chrisostler.co.uk/event/the-white-lion-braunton-7/
LOCATION:The White Lion\, Braunton\, North Street\, Braunton\, Devon
END:VEVENT
BEGIN:VEVENT
DTSTART;TZID=Europe/London:20260208T150000
DTEND;TZID=Europe/London:20260208T150000
DTSTAMP:20260420T030907
CREATED:20260122T134809Z
LAST-MODIFIED:20260122T134809Z
UID:2866-1770562800-1770562800@www.chrisostler.co.uk
SUMMARY:The Portreath Arms\, Portreath
DESCRIPTION:Chris Ostler\, Solo
URL:https://www.chrisostler.co.uk/event/the-portreath-arms-portreath-3/
LOCATION:The Portreath Arms\, Portreath\, The Square\, Portreath\, TR16 4LA
END:VEVENT
BEGIN:VEVENT
DTSTART;TZID=Europe/London:20260220T200000
DTEND;TZID=Europe/London:20260220T200000
DTSTAMP:20260420T030907
CREATED:20260204T101159Z
LAST-MODIFIED:20260204T101242Z
UID:2891-1771617600-1771617600@www.chrisostler.co.uk
SUMMARY:Oriels\, Exeter
DESCRIPTION:Chris Ostler\, Solo
URL:https://www.chrisostler.co.uk/event/oriels-exeter-4-2/
LOCATION:Oriels Exeter\, 223-226 High Street\, Exeter\, Devon\, EX4 3RH
END:VEVENT
BEGIN:VEVENT
DTSTART;TZID=Europe/London:20260221T200000
DTEND;TZID=Europe/London:20260221T200000
DTSTAMP:20260420T030907
CREATED:20251230T134502Z
LAST-MODIFIED:20251230T134502Z
UID:2824-1771704000-1771704000@www.chrisostler.co.uk
SUMMARY:Lord Nelson\, Topsham
DESCRIPTION:Chris Ostler\, Solo
URL:https://www.chrisostler.co.uk/event/lord-nelson-topsham/
LOCATION:The Lord Nelson\, Topsham\, High Street\, Topsham\, EX3 0DU
END:VEVENT
BEGIN:VEVENT
DTSTART;TZID=Europe/London:20260226T193000
DTEND;TZID=Europe/London:20260226T193000
DTSTAMP:20260420T030907
CREATED:20260122T135650Z
LAST-MODIFIED:20260129T232551Z
UID:2868-1772134200-1772134200@www.chrisostler.co.uk
SUMMARY:The Millbridge Inn\, Plymouth
DESCRIPTION:Chris Ostler\, Solo
URL:https://www.chrisostler.co.uk/event/the-millbridge-inn-plymouth/
LOCATION:The Millbridge Inn\, Plymouth\, 23 Molesworth Road\, Plymouth\, Devon\, PL1 5LZ
END:VEVENT
BEGIN:VEVENT
DTSTART;TZID=Europe/London:20260227T200000
DTEND;TZID=Europe/London:20260227T200000
DTSTAMP:20260420T030907
CREATED:20260204T101159Z
LAST-MODIFIED:20260204T101302Z
UID:2893-1772222400-1772222400@www.chrisostler.co.uk
SUMMARY:Oriels\, Exeter
DESCRIPTION:Chris Ostler\, Solo
URL:https://www.chrisostler.co.uk/event/oriels-exeter-4-2-2/
LOCATION:Oriels Exeter\, 223-226 High Street\, Exeter\, Devon\, EX4 3RH
END:VEVENT
BEGIN:VEVENT
DTSTART;TZID=Europe/London:20260306T193000
DTEND;TZID=Europe/London:20260306T193000
DTSTAMP:20260420T030907
CREATED:20251022T133544Z
LAST-MODIFIED:20260220T191955Z
UID:2901-1772825400-1772825400@www.chrisostler.co.uk
SUMMARY:The Cranberry Farm\, Cranbrook
DESCRIPTION:Chris Ostler\, Solo
URL:https://www.chrisostler.co.uk/event/the-cranberry-farm-cranbrook-2/
LOCATION:The Cranberry Farm\, Cranbrook\, Badger Way\, Cranbrook\, EX5 7FN
END:VEVENT
BEGIN:VEVENT
DTSTART;TZID=Europe/London:20260307T210000
DTEND;TZID=Europe/London:20260307T210000
DTSTAMP:20260420T030907
CREATED:20251230T134748Z
LAST-MODIFIED:20251230T134748Z
UID:2827-1772917200-1772917200@www.chrisostler.co.uk
SUMMARY:Royal Clarence\, Seaton
DESCRIPTION:Chris Ostler\, Solo
URL:https://www.chrisostler.co.uk/event/royal-clarence-seaton-2/
LOCATION:Royal Clarence\, Seaton\, 1 Harbour Road\, Seaton\, EX12 2LX
END:VEVENT
BEGIN:VEVENT
DTSTART;TZID=Europe/London:20260312T190000
DTEND;TZID=Europe/London:20260312T190000
DTSTAMP:20260420T030907
CREATED:20260114T164834Z
LAST-MODIFIED:20260311T111507Z
UID:2858-1773342000-1773342000@www.chrisostler.co.uk
SUMMARY:Hoburne Devon Bay Holiday Park\, Paignton
DESCRIPTION:Chris Ostler\, Solo
URL:https://www.chrisostler.co.uk/event/hoburne-devon-bay-holiday-park-paignton-2/
LOCATION:Hoburne Devon Bay Holiday Park\, Paignton\, Grange Court\, Grange Road\, Goodrington\, Paington\, Devon\, TQ4 7JP
END:VEVENT
BEGIN:VEVENT
DTSTART;TZID=Europe/London:20260313T193000
DTEND;TZID=Europe/London:20260313T193000
DTSTAMP:20260420T030907
CREATED:20260304T131938Z
LAST-MODIFIED:20260304T131938Z
UID:2917-1773430200-1773430200@www.chrisostler.co.uk
SUMMARY:Oriels\, Exeter
DESCRIPTION:Chris Ostler\, Solo
URL:https://www.chrisostler.co.uk/event/oriels-exeter-5/
LOCATION:Oriels Exeter\, 223-226 High Street\, Exeter\, Devon\, EX4 3RH
END:VEVENT
BEGIN:VEVENT
DTSTART;TZID=Europe/London:20260314T150000
DTEND;TZID=Europe/London:20260314T150000
DTSTAMP:20260420T030907
CREATED:20260304T134732Z
LAST-MODIFIED:20260304T134922Z
UID:2931-1773500400-1773500400@www.chrisostler.co.uk
SUMMARY:Steamer Fest\, Cullompton
DESCRIPTION:Chris Ostler\, Solo\nTickets required at various prices for weekend or days – see Steamer Fest website.
URL:https://www.chrisostler.co.uk/event/steamer-fest-cullompton/
LOCATION:Steamer Fest\, Cullompton\, The Steamer Coffee House and Kitchen\, Cullompton\, Devon\, EX15 1QP
END:VEVENT
BEGIN:VEVENT
DTSTART;TZID=Europe/London:20260314T211500
DTEND;TZID=Europe/London:20260314T211500
DTSTAMP:20260420T030907
CREATED:20260311T113058Z
LAST-MODIFIED:20260311T113058Z
UID:2972-1773522900-1773522900@www.chrisostler.co.uk
SUMMARY:Holywell Bay Holiday Park\, Newquay
DESCRIPTION:Chris Ostler\, Solo
URL:https://www.chrisostler.co.uk/event/holywell-bay-holiday-park-newquay/
LOCATION:Holywell Bay Holiday Park\, Newquay\, Holywell Road\, Newquay\, TR8 5PR
END:VEVENT
BEGIN:VEVENT
DTSTART;TZID=Europe/London:20260315T160000
DTEND;TZID=Europe/London:20260315T160000
DTSTAMP:20260420T030907
CREATED:20251230T135007Z
LAST-MODIFIED:20251230T135007Z
UID:2829-1773590400-1773590400@www.chrisostler.co.uk
SUMMARY:Ebberly Arms\, Barnstaple
DESCRIPTION:Chris Ostler\, Solo
URL:https://www.chrisostler.co.uk/event/ebberly-arms-barnstaple/
LOCATION:The Ebberley Arms\, Barnstaple\, 40 Bear Street\, Barnstaple\, Devon\, EX32 7BZ
END:VEVENT
BEGIN:VEVENT
DTSTART;TZID=Europe/London:20260316T210000
DTEND;TZID=Europe/London:20260316T210000
DTSTAMP:20260420T030907
CREATED:20251230T140044Z
LAST-MODIFIED:20251230T140044Z
UID:2834-1773694800-1773694800@www.chrisostler.co.uk
SUMMARY:Unity Beach\, Brean
DESCRIPTION:Chris Ostler\, Solo
URL:https://www.chrisostler.co.uk/event/unity-beach-brean-2/
LOCATION:Unity Beach\, Brean\, Coast Road\, Brean Sands\, Somerset\, TA8 2RB
END:VEVENT
BEGIN:VEVENT
DTSTART;TZID=Europe/London:20260320T193000
DTEND;TZID=Europe/London:20260320T193000
DTSTAMP:20260420T030907
CREATED:20260304T131938Z
LAST-MODIFIED:20260304T132556Z
UID:2919-1774035000-1774035000@www.chrisostler.co.uk
SUMMARY:Oriels\, Exeter
DESCRIPTION:Chris Ostler\, Solo
URL:https://www.chrisostler.co.uk/event/oriels-exeter-5-2/
LOCATION:Oriels Exeter\, 223-226 High Street\, Exeter\, Devon\, EX4 3RH
END:VEVENT
END:VCALENDAR